BEGIN:VCALENDAR
VERSION:2.0
PRODID:-//Svensk Fäktning - ECPv6.15.18//NONSGML v1.0//EN
CALSCALE:GREGORIAN
METHOD:PUBLISH
X-WR-CALNAME:Svensk Fäktning
X-ORIGINAL-URL:https://svenskfaktning.se
X-WR-CALDESC:Händelser för Svensk Fäktning
REFRESH-INTERVAL;VALUE=DURATION:PT1H
X-Robots-Tag:noindex
X-PUBLISHED-TTL:PT1H
BEGIN:VTIMEZONE
TZID:UTC
BEGIN:STANDARD
TZOFFSETFROM:+0000
TZOFFSETTO:+0000
TZNAME:UTC
DTSTART:20240101T000000
END:STANDARD
END:VTIMEZONE
BEGIN:VTIMEZONE
TZID:Europe/Stockholm
BEGIN:DAYLIGHT
TZOFFSETFROM:+0100
TZOFFSETTO:+0200
TZNAME:CEST
DTSTART:20240331T010000
END:DAYLIGHT
BEGIN:STANDARD
TZOFFSETFROM:+0200
TZOFFSETTO:+0100
TZNAME:CET
DTSTART:20241027T010000
END:STANDARD
BEGIN:DAYLIGHT
TZOFFSETFROM:+0100
TZOFFSETTO:+0200
TZNAME:CEST
DTSTART:20250330T010000
END:DAYLIGHT
BEGIN:STANDARD
TZOFFSETFROM:+0200
TZOFFSETTO:+0100
TZNAME:CET
DTSTART:20251026T010000
END:STANDARD
BEGIN:DAYLIGHT
TZOFFSETFROM:+0100
TZOFFSETTO:+0200
TZNAME:CEST
DTSTART:20260329T010000
END:DAYLIGHT
BEGIN:STANDARD
TZOFFSETFROM:+0200
TZOFFSETTO:+0100
TZNAME:CET
DTSTART:20261025T010000
END:STANDARD
END:VTIMEZONE
BEGIN:VEVENT
DTSTART;VALUE=DATE:20250215
DTEND;VALUE=DATE:20250217
DTSTAMP:20260421T180730
CREATED:20240810T234032Z
LAST-MODIFIED:20250315T231640Z
UID:10002857-1739577600-1739750399@svenskfaktning.se
SUMMARY:Fencing for Everyone 3
DESCRIPTION:Åldersklasser: U23Klasser: FF FMMer information: https://fencing.ophardt.online/sv/widget/event/30786
URL:https://svenskfaktning.se/event/fencing-for-everyone-3-3/
LOCATION:Antony
CATEGORIES:Tävling
END:VEVENT
BEGIN:VEVENT
DTSTART;VALUE=DATE:20250215
DTEND;VALUE=DATE:20250217
DTSTAMP:20260421T180730
CREATED:20240602T074014Z
LAST-MODIFIED:20250315T231641Z
UID:10002736-1739577600-1739750399@svenskfaktning.se
SUMMARY:Star Cup
DESCRIPTION:Åldersklasser: U20Klasser: EMMer information: https://fencing.ophardt.online/sv/widget/event/30289
URL:https://svenskfaktning.se/event/star-cup-6/
LOCATION:Vrsac
CATEGORIES:Tävling
END:VEVENT
BEGIN:VEVENT
DTSTART;VALUE=DATE:20250215
DTEND;VALUE=DATE:20250217
DTSTAMP:20260421T180730
CREATED:20240601T072510Z
LAST-MODIFIED:20250315T231641Z
UID:10002714-1739577600-1739750399@svenskfaktning.se
SUMMARY:World Cup
DESCRIPTION:Åldersklasser: U20Klasser: EFMer information: https://fencing.ophardt.online/sv/widget/event/30287
URL:https://svenskfaktning.se/event/world-cup-75/
LOCATION:Beauvais
CATEGORIES:Tävling
END:VEVENT
BEGIN:VEVENT
DTSTART;VALUE=DATE:20250215
DTEND;VALUE=DATE:20250216
DTSTAMP:20260421T180730
CREATED:20241208T191812Z
LAST-MODIFIED:20250315T231641Z
UID:10002939-1739577600-1739663999@svenskfaktning.se
SUMMARY:European Circuit
DESCRIPTION:Åldersklasser: SeniorKlasser: SF SMMer information: https://fencing.ophardt.online/sv/widget/event/31633
URL:https://svenskfaktning.se/event/european-circuit-48/
LOCATION:Budapest
END:VEVENT
BEGIN:VEVENT
DTSTART;TZID=Europe/Stockholm:20250214T173000
DTEND;TZID=Europe/Stockholm:20250216T150000
DTSTAMP:20260421T180730
CREATED:20250124T132000Z
LAST-MODIFIED:20250124T132047Z
UID:10002955-1739554200-1739718000@svenskfaktning.se
SUMMARY:Landslagssamling värja Herrar
DESCRIPTION:Landslagssamling värja Herrar februari 2025
URL:https://svenskfaktning.se/event/kallelse-landslagssamling-varja-herrar-14-16-februari-2025/
CATEGORIES:Verksamhet
END:VEVENT
BEGIN:VEVENT
DTSTART;VALUE=DATE:20250214
DTEND;VALUE=DATE:20250217
DTSTAMP:20260421T180730
CREATED:20240623T122530Z
LAST-MODIFIED:20250314T231703Z
UID:10002812-1739491200-1739750399@svenskfaktning.se
SUMMARY:Tashkent World Cup
DESCRIPTION:Åldersklasser: U20Klasser: FF FMMer information: https://fencing.ophardt.online/sv/widget/event/30445
URL:https://svenskfaktning.se/event/world-cup-100/
LOCATION:Tashkent
CATEGORIES:Tävling
END:VEVENT
BEGIN:VEVENT
DTSTART;VALUE=DATE:20250214
DTEND;VALUE=DATE:20250217
DTSTAMP:20260421T180730
CREATED:20240602T074014Z
LAST-MODIFIED:20250314T231702Z
UID:10002735-1739491200-1739750399@svenskfaktning.se
SUMMARY:Almaty Jastar
DESCRIPTION:Åldersklasser: U20Klasser: SF SMMer information: https://fencing.ophardt.online/sv/widget/event/30307
URL:https://svenskfaktning.se/event/world-cup-84/
LOCATION:Almaty
CATEGORIES:Tävling
END:VEVENT
BEGIN:VEVENT
DTSTART;VALUE=DATE:20250208
DTEND;VALUE=DATE:20250210
DTSTAMP:20260421T180730
CREATED:20241003T112605Z
LAST-MODIFIED:20250308T231641Z
UID:10002877-1738972800-1739145599@svenskfaktning.se
SUMMARY:2025 Swedish Championships seniors
DESCRIPTION:Åldersklasser: SeniorerKlasser: EF EM FF FM SF SMInbjudan: https://fencing.ophardt.online/sv/invitation/view/30961/pdfMer information: https://fencing.ophardt.online/sv/widget/event/30961
URL:https://svenskfaktning.se/event/2025-swedish-championships-seniors/
LOCATION:Borås
CATEGORIES:Tävling
END:VEVENT
BEGIN:VEVENT
DTSTART;VALUE=DATE:20250208
DTEND;VALUE=DATE:20250210
DTSTAMP:20260421T180730
CREATED:20240623T122529Z
LAST-MODIFIED:20250308T231642Z
UID:10002810-1738972800-1739145599@svenskfaktning.se
SUMMARY:Cadet Circuit
DESCRIPTION:Åldersklasser: U17Klasser: SF SMMer information: https://fencing.ophardt.online/sv/widget/event/30435
URL:https://svenskfaktning.se/event/cadet-circuit-22/
LOCATION:Praha
CATEGORIES:Tävling
END:VEVENT
BEGIN:VEVENT
DTSTART;VALUE=DATE:20250208
DTEND;VALUE=DATE:20250210
DTSTAMP:20260421T180730
CREATED:20240623T122529Z
LAST-MODIFIED:20250308T231641Z
UID:10002811-1738972800-1739145599@svenskfaktning.se
SUMMARY:Sofia Foil Cup
DESCRIPTION:Åldersklasser: U17Klasser: FF FMMer information: https://fencing.ophardt.online/sv/widget/event/30436
URL:https://svenskfaktning.se/event/cadet-circuit-23/
LOCATION:Sofia
CATEGORIES:Tävling
END:VEVENT
BEGIN:VEVENT
DTSTART;VALUE=DATE:20250208
DTEND;VALUE=DATE:20250210
DTSTAMP:20260421T180730
CREATED:20240623T122529Z
LAST-MODIFIED:20250308T231642Z
UID:10002809-1738972800-1739145599@svenskfaktning.se
SUMMARY:Wawel Dragon Trophy
DESCRIPTION:Åldersklasser: U17Klasser: EF EMMer information: https://fencing.ophardt.online/sv/widget/event/30419
URL:https://svenskfaktning.se/event/wawel-dragon-trophy-4/
LOCATION:Krakow
CATEGORIES:Tävling
END:VEVENT
BEGIN:VEVENT
DTSTART;VALUE=DATE:20250208
DTEND;VALUE=DATE:20250209
DTSTAMP:20260421T180730
CREATED:20241129T190159Z
LAST-MODIFIED:20250308T231641Z
UID:10002935-1738972800-1739059199@svenskfaktning.se
SUMMARY:Voith Cup
DESCRIPTION:Åldersklasser: SeniorKlasser: EMMer information: https://fencing.ophardt.online/sv/widget/event/31591
URL:https://svenskfaktning.se/event/voith-cup-4/
LOCATION:Heidenheim
END:VEVENT
BEGIN:VEVENT
DTSTART;VALUE=DATE:20250208
DTEND;VALUE=DATE:20250209
DTSTAMP:20260421T180730
CREATED:20240601T072510Z
LAST-MODIFIED:20250308T231641Z
UID:10002713-1738972800-1739059199@svenskfaktning.se
SUMMARY:2025 S:t Erikscupen (4)
DESCRIPTION:Åldersklasser: Seniorer U11 U13 U15 U20Klasser: EF EM EO FOInbjudan: https://fencing.ophardt.online/sv/invitation/view/30261/pdfMer information: https://fencing.ophardt.online/sv/widget/event/30261
URL:https://svenskfaktning.se/event/2025-st-erikscupen-4/
LOCATION:Stockholm
CATEGORIES:Tävling
END:VEVENT
BEGIN:VEVENT
DTSTART;VALUE=DATE:20250207
DTEND;VALUE=DATE:20250210
DTSTAMP:20260421T180730
CREATED:20240622T121433Z
LAST-MODIFIED:20250307T230159Z
UID:10002770-1738886400-1739145599@svenskfaktning.se
SUMMARY:Trofeo INALPI
DESCRIPTION:Åldersklasser: SeniorKlasser: FF FMMer information: https://fencing.ophardt.online/sv/widget/event/30405
URL:https://svenskfaktning.se/event/trofeo-inalpi-4/
LOCATION:Torino
CATEGORIES:Tävling
END:VEVENT
BEGIN:VEVENT
DTSTART;VALUE=DATE:20250207
DTEND;VALUE=DATE:20250210
DTSTAMP:20260421T180730
CREATED:20240602T074014Z
LAST-MODIFIED:20250307T230159Z
UID:10002734-1738886400-1739145599@svenskfaktning.se
SUMMARY:Ciudad de Barcelona
DESCRIPTION:Åldersklasser: SeniorKlasser: EFMer information: https://fencing.ophardt.online/sv/widget/event/30311
URL:https://svenskfaktning.se/event/ciudad-de-barcelona-4/
LOCATION:Barcelona
CATEGORIES:Tävling
END:VEVENT
BEGIN:VEVENT
DTSTART;VALUE=DATE:20250207
DTEND;VALUE=DATE:20250208
DTSTAMP:20260421T180730
CREATED:20241003T112605Z
LAST-MODIFIED:20250307T230158Z
UID:10002878-1738886400-1738972799@svenskfaktning.se
SUMMARY:Sofia Foil Cup
DESCRIPTION:Åldersklasser: U14Klasser: FF FMMer information: https://fencing.ophardt.online/sv/widget/event/31061
URL:https://svenskfaktning.se/event/european-circuit-41/
LOCATION:Sofia
CATEGORIES:Tävling
END:VEVENT
BEGIN:VEVENT
DTSTART;VALUE=DATE:20250206
DTEND;VALUE=DATE:20250208
DTSTAMP:20260421T180730
CREATED:20240602T074014Z
LAST-MODIFIED:20250306T230142Z
UID:10002733-1738800000-1738972799@svenskfaktning.se
SUMMARY:71 Heidenheimer Pokal
DESCRIPTION:Åldersklasser: SeniorKlasser: EMMer information: https://fencing.ophardt.online/sv/widget/event/30310
URL:https://svenskfaktning.se/event/71-heidenheimer-pokal/
LOCATION:Heidenheim
CATEGORIES:Tävling
END:VEVENT
BEGIN:VEVENT
DTSTART;TZID=Europe/Stockholm:20250204T203000
DTEND;TZID=Europe/Stockholm:20250204T220000
DTSTAMP:20260421T180730
CREATED:20250120T084551Z
LAST-MODIFIED:20250120T084855Z
UID:10002948-1738701000-1738706400@svenskfaktning.se
SUMMARY:Grundläggande domarutbildning 1
DESCRIPTION:https://svenskfaktning.se/2025/01/08/anmalan-till-grundlaggande-domarutbildning-oppen/
URL:https://svenskfaktning.se/event/grundlaggande-domarutbildning-1/
LOCATION:Teams
CATEGORIES:Verksamhet
END:VEVENT
BEGIN:VEVENT
DTSTART;VALUE=DATE:20250202
DTEND;VALUE=DATE:20250203
DTSTAMP:20260421T180730
CREATED:20250203T213134Z
LAST-MODIFIED:20250302T230141Z
UID:10002956-1738454400-1738540799@svenskfaktning.se
SUMMARY:European Circuit
DESCRIPTION:Åldersklasser: U14Klasser: EF EMMer information: https://fencing.ophardt.online/sv/widget/event/31931
URL:https://svenskfaktning.se/event/european-circuit-50/
LOCATION:Ub
END:VEVENT
BEGIN:VEVENT
DTSTART;VALUE=DATE:20250201
DTEND;VALUE=DATE:20250203
DTSTAMP:20260421T180730
CREATED:20241208T191808Z
LAST-MODIFIED:20250301T230132Z
UID:10002938-1738368000-1738540799@svenskfaktning.se
SUMMARY:Challenge CEP - Marathon
DESCRIPTION:Åldersklasser: U14 U17Klasser: FF FMMer information: https://fencing.ophardt.online/sv/widget/event/31632
URL:https://svenskfaktning.se/event/challenge-cep-marathon-3/
LOCATION:Paris
END:VEVENT
BEGIN:VEVENT
DTSTART;VALUE=DATE:20250201
DTEND;VALUE=DATE:20250203
DTSTAMP:20260421T180730
CREATED:20240716T173029Z
LAST-MODIFIED:20250301T230132Z
UID:10002838-1738368000-1738540799@svenskfaktning.se
SUMMARY:EVF Circuit
DESCRIPTION:Åldersklasser: O40 O50 O60 O70 VET0Klasser: EF EM FF FM SF SMMer information: https://fencing.ophardt.online/sv/widget/event/30660
URL:https://svenskfaktning.se/event/evf-circuit-29/
LOCATION:Terni
CATEGORIES:Tävling
END:VEVENT
BEGIN:VEVENT
DTSTART;VALUE=DATE:20250201
DTEND;VALUE=DATE:20250203
DTSTAMP:20260421T180730
CREATED:20240602T074013Z
LAST-MODIFIED:20250301T230132Z
UID:10002731-1738368000-1738540799@svenskfaktning.se
SUMMARY:Asparoukh's Sword
DESCRIPTION:Åldersklasser: U20Klasser: SMMer information: https://fencing.ophardt.online/sv/widget/event/30302
URL:https://svenskfaktning.se/event/asparoukhs-sword-4/
LOCATION:Plovdiv
CATEGORIES:Tävling
END:VEVENT
BEGIN:VEVENT
DTSTART;VALUE=DATE:20250201
DTEND;VALUE=DATE:20250203
DTSTAMP:20260421T180730
CREATED:20240602T074013Z
LAST-MODIFIED:20250301T230132Z
UID:10002732-1738368000-1738540799@svenskfaktning.se
SUMMARY:World Cup
DESCRIPTION:Åldersklasser: U20Klasser: SFMer information: https://fencing.ophardt.online/sv/widget/event/30305
URL:https://svenskfaktning.se/event/world-cup-83/
LOCATION:Tbilisi
CATEGORIES:Tävling
END:VEVENT
BEGIN:VEVENT
DTSTART;VALUE=DATE:20250201
DTEND;VALUE=DATE:20250203
DTSTAMP:20260421T180730
CREATED:20240601T072509Z
LAST-MODIFIED:20250301T230133Z
UID:10002712-1738368000-1738540799@svenskfaktning.se
SUMMARY:2025 Drakduellen
DESCRIPTION:Åldersklasser: Seniorer U13 U15 U20Klasser: EOInbjudan: https://fencing.ophardt.online/sv/invitation/view/30269/pdfMer information: https://fencing.ophardt.online/sv/widget/event/30269
URL:https://svenskfaktning.se/event/2025-drakduellen/
LOCATION:Sundsvall
CATEGORIES:Tävling
END:VEVENT
BEGIN:VEVENT
DTSTART;VALUE=DATE:20250201
DTEND;VALUE=DATE:20250202
DTSTAMP:20260421T180730
CREATED:20241024T141711Z
LAST-MODIFIED:20250301T230132Z
UID:10002925-1738368000-1738454399@svenskfaktning.se
SUMMARY:2025 Espoo Fencing Challenge
DESCRIPTION:Åldersklasser: U14Klasser: EF EMMer information: https://fencing.ophardt.online/sv/widget/event/31060
URL:https://svenskfaktning.se/event/2025-espoo-fencing-challenge/
LOCATION:Espoo
END:VEVENT
BEGIN:VEVENT
DTSTART;VALUE=DATE:20250201
DTEND;VALUE=DATE:20250202
DTSTAMP:20260421T180730
CREATED:20241003T112603Z
LAST-MODIFIED:20250301T230131Z
UID:10002876-1738368000-1738454399@svenskfaktning.se
SUMMARY:2025 Sydsvenska Cupen - Ystadstöten
DESCRIPTION:Åldersklasser: Seniorer U11 U13 U15Klasser: EF EM EOInbjudan: https://fencing.ophardt.online/sv/invitation/view/30990/pdfMer information: https://fencing.ophardt.online/sv/widget/event/30990
URL:https://svenskfaktning.se/event/2025-sydsvenska-cupen-ystadstoten/
LOCATION:Ystad
CATEGORIES:Tävling
END:VEVENT
BEGIN:VEVENT
DTSTART;VALUE=DATE:20250131
DTEND;VALUE=DATE:20250203
DTSTAMP:20260421T180730
CREATED:20240623T122527Z
LAST-MODIFIED:20250228T230132Z
UID:10002808-1738281600-1738540799@svenskfaktning.se
SUMMARY:Challenge Mazuranic
DESCRIPTION:Åldersklasser: U20Klasser: FF FMMer information: https://fencing.ophardt.online/sv/widget/event/30442
URL:https://svenskfaktning.se/event/challenge-mazuranic-4/
LOCATION:Zagreb
CATEGORIES:Tävling
END:VEVENT
BEGIN:VEVENT
DTSTART;VALUE=DATE:20250131
DTEND;VALUE=DATE:20250203
DTSTAMP:20260421T180730
CREATED:20240602T074013Z
LAST-MODIFIED:20250228T230131Z
UID:10002730-1738281600-1738540799@svenskfaktning.se
SUMMARY:2024 World Cup
DESCRIPTION:Åldersklasser: U20Klasser: EF EMMer information: https://fencing.ophardt.online/sv/widget/event/30296
URL:https://svenskfaktning.se/event/2024-world-cup-2/
LOCATION:Cairo
CATEGORIES:Tävling
END:VEVENT
BEGIN:VEVENT
DTSTART;VALUE=DATE:20250125
DTEND;VALUE=DATE:20250127
DTSTAMP:20260421T180730
CREATED:20250103T204648Z
LAST-MODIFIED:20250222T230147Z
UID:10002947-1737763200-1737935999@svenskfaktning.se
SUMMARY:21 Mediterranean Championships 2025
DESCRIPTION:Åldersklasser: U15 U17Klasser: EF EM FF FM SF SMMer information: https://fencing.ophardt.online/sv/widget/event/31784
URL:https://svenskfaktning.se/event/21-mediterranean-championships-2025/
LOCATION:Vrsar
END:VEVENT
BEGIN:VEVENT
DTSTART;VALUE=DATE:20250125
DTEND;VALUE=DATE:20250127
DTSTAMP:20260421T180730
CREATED:20240628T132529Z
LAST-MODIFIED:20250222T230146Z
UID:10002816-1737763200-1737935999@svenskfaktning.se
SUMMARY:22 President of Konin City’s Cup
DESCRIPTION:Åldersklasser: U17Klasser: SF SMMer information: https://fencing.ophardt.online/sv/widget/event/30467
URL:https://svenskfaktning.se/event/22-president-of-konin-citys-cup-sabre-tournament/
LOCATION:Konin
CATEGORIES:Tävling
END:VEVENT
END:VCALENDAR