BEGIN:VCALENDAR
VERSION:2.0
PRODID:-//Svensk Fäktning - ECPv6.15.18//NONSGML v1.0//EN
CALSCALE:GREGORIAN
METHOD:PUBLISH
X-WR-CALNAME:Svensk Fäktning
X-ORIGINAL-URL:https://svenskfaktning.se
X-WR-CALDESC:Händelser för Svensk Fäktning
REFRESH-INTERVAL;VALUE=DURATION:PT1H
X-Robots-Tag:noindex
X-PUBLISHED-TTL:PT1H
BEGIN:VTIMEZONE
TZID:UTC
BEGIN:STANDARD
TZOFFSETFROM:+0000
TZOFFSETTO:+0000
TZNAME:UTC
DTSTART:20230101T000000
END:STANDARD
END:VTIMEZONE
BEGIN:VTIMEZONE
TZID:Europe/Stockholm
BEGIN:DAYLIGHT
TZOFFSETFROM:+0100
TZOFFSETTO:+0200
TZNAME:CEST
DTSTART:20230326T010000
END:DAYLIGHT
BEGIN:STANDARD
TZOFFSETFROM:+0200
TZOFFSETTO:+0100
TZNAME:CET
DTSTART:20231029T010000
END:STANDARD
BEGIN:DAYLIGHT
TZOFFSETFROM:+0100
TZOFFSETTO:+0200
TZNAME:CEST
DTSTART:20240331T010000
END:DAYLIGHT
BEGIN:STANDARD
TZOFFSETFROM:+0200
TZOFFSETTO:+0100
TZNAME:CET
DTSTART:20241027T010000
END:STANDARD
BEGIN:DAYLIGHT
TZOFFSETFROM:+0100
TZOFFSETTO:+0200
TZNAME:CEST
DTSTART:20250330T010000
END:DAYLIGHT
BEGIN:STANDARD
TZOFFSETFROM:+0200
TZOFFSETTO:+0100
TZNAME:CET
DTSTART:20251026T010000
END:STANDARD
BEGIN:DAYLIGHT
TZOFFSETFROM:+0100
TZOFFSETTO:+0200
TZNAME:CEST
DTSTART:20260329T010000
END:DAYLIGHT
BEGIN:STANDARD
TZOFFSETFROM:+0200
TZOFFSETTO:+0100
TZNAME:CET
DTSTART:20261025T010000
END:STANDARD
END:VTIMEZONE
BEGIN:VEVENT
DTSTART;VALUE=DATE:20250111
DTEND;VALUE=DATE:20250113
DTSTAMP:20260421T180730
CREATED:20240623T122525Z
LAST-MODIFIED:20250209T214631Z
UID:10002801-1736553600-1736726399@svenskfaktning.se
SUMMARY:2025 Coupe du Danube
DESCRIPTION:Åldersklasser: U17Klasser: EF EMMer information: https://fencing.ophardt.online/sv/widget/event/30417
URL:https://svenskfaktning.se/event/2025-coupe-du-danube/
LOCATION:Samorin
CATEGORIES:Tävling
END:VEVENT
BEGIN:VEVENT
DTSTART;VALUE=DATE:20250111
DTEND;VALUE=DATE:20250113
DTSTAMP:20260421T180730
CREATED:20240623T122524Z
LAST-MODIFIED:20250209T214631Z
UID:10002799-1736553600-1736726399@svenskfaktning.se
SUMMARY:AMU Cup
DESCRIPTION:Åldersklasser: U17Klasser: FFMer information: https://fencing.ophardt.online/sv/widget/event/30426
URL:https://svenskfaktning.se/event/amu-cup-4/
LOCATION:Poznan
CATEGORIES:Tävling
END:VEVENT
BEGIN:VEVENT
DTSTART;VALUE=DATE:20250111
DTEND;VALUE=DATE:20250113
DTSTAMP:20260421T180730
CREATED:20240623T122524Z
LAST-MODIFIED:20250209T214631Z
UID:10002800-1736553600-1736726399@svenskfaktning.se
SUMMARY:Cadet Circuit
DESCRIPTION:Åldersklasser: U17Klasser: SF SMMer information: https://fencing.ophardt.online/sv/widget/event/30432
URL:https://svenskfaktning.se/event/cadet-circuit-20/
LOCATION:Segovia
CATEGORIES:Tävling
END:VEVENT
BEGIN:VEVENT
DTSTART;VALUE=DATE:20250111
DTEND;VALUE=DATE:20250113
DTSTAMP:20260421T180730
CREATED:20240601T072509Z
LAST-MODIFIED:20250209T214631Z
UID:10002710-1736553600-1736726399@svenskfaktning.se
SUMMARY:2025 Kungsbacka Masters
DESCRIPTION:Åldersklasser: Seniorer U13 U15 U17 U20Klasser: EF EMInbjudan: https://fencing.ophardt.online/sv/invitation/view/30278/pdfMer information: https://fencing.ophardt.online/sv/widget/event/30278
URL:https://svenskfaktning.se/event/2025-kungsbacka-masters/
LOCATION:Kungsbacka
CATEGORIES:Tävling
END:VEVENT
BEGIN:VEVENT
DTSTART;VALUE=DATE:20250110
DTEND;VALUE=DATE:20250113
DTSTAMP:20260421T180730
CREATED:20240623T122524Z
LAST-MODIFIED:20250208T213143Z
UID:10002798-1736467200-1736726399@svenskfaktning.se
SUMMARY:Hong Kong World Cup
DESCRIPTION:Åldersklasser: SeniorKlasser: FFMer information: https://fencing.ophardt.online/sv/widget/event/30448
URL:https://svenskfaktning.se/event/world-cup-96/
LOCATION:Hong Kong
CATEGORIES:Tävling
END:VEVENT
BEGIN:VEVENT
DTSTART;VALUE=DATE:20250110
DTEND;VALUE=DATE:20250113
DTSTAMP:20260421T180730
CREATED:20240622T121431Z
LAST-MODIFIED:20250208T213143Z
UID:10002769-1736467200-1736726399@svenskfaktning.se
SUMMARY:Challenge International de Paris
DESCRIPTION:Åldersklasser: SeniorKlasser: FMMer information: https://fencing.ophardt.online/sv/widget/event/30408
URL:https://svenskfaktning.se/event/challenge-international-de-paris-4/
LOCATION:Paris
CATEGORIES:Tävling
END:VEVENT
BEGIN:VEVENT
DTSTART;VALUE=DATE:20250110
DTEND;VALUE=DATE:20250113
DTSTAMP:20260421T180730
CREATED:20240622T121431Z
LAST-MODIFIED:20250208T213142Z
UID:10002768-1736467200-1736726399@svenskfaktning.se
SUMMARY:Tunis Grand Prix
DESCRIPTION:Åldersklasser: SeniorKlasser: SF SMMer information: https://fencing.ophardt.online/sv/widget/event/30400
URL:https://svenskfaktning.se/event/grand-prix-13/
LOCATION:Tunis
CATEGORIES:Tävling
END:VEVENT
BEGIN:VEVENT
DTSTART;TZID=Europe/Stockholm:20250109T183000
DTEND;TZID=Europe/Stockholm:20250109T200000
DTSTAMP:20260421T180730
CREATED:20241218T103522Z
LAST-MODIFIED:20241218T103732Z
UID:10002946-1736447400-1736452800@svenskfaktning.se
SUMMARY:TK informationsmöte
DESCRIPTION:Syftet med mötet är att informera om bakgrunden och genomförandet av förlängningen till 30 dagar vid anmälan till tävlingar på Ophardt. \nTK bjuder in till informationsmöte 9/1–2025 \n \n 
URL:https://svenskfaktning.se/event/tk-informationsmote/
CATEGORIES:Verksamhet
END:VEVENT
BEGIN:VEVENT
DTSTART;VALUE=DATE:20250105
DTEND;VALUE=DATE:20250107
DTSTAMP:20260421T180730
CREATED:20240810T234025Z
LAST-MODIFIED:20250203T213150Z
UID:10002855-1736035200-1736207999@svenskfaktning.se
SUMMARY:Mediterranean Cup
DESCRIPTION:Åldersklasser: U23Klasser: SF SMMer information: https://fencing.ophardt.online/sv/widget/event/30784
URL:https://svenskfaktning.se/event/fencing-for-everyone-3/
LOCATION:Udine
CATEGORIES:Tävling
END:VEVENT
BEGIN:VEVENT
DTSTART;VALUE=DATE:20250104
DTEND;VALUE=DATE:20250106
DTSTAMP:20260421T180730
CREATED:20240716T173025Z
LAST-MODIFIED:20250202T213129Z
UID:10002835-1735948800-1736121599@svenskfaktning.se
SUMMARY:EVF Circuit
DESCRIPTION:Åldersklasser: O40 O50 O60 O70Klasser: EF EM FF FM SF SMMer information: https://fencing.ophardt.online/sv/widget/event/30658
URL:https://svenskfaktning.se/event/evf-circuit-27/
LOCATION:Guildford – London
CATEGORIES:Tävling
END:VEVENT
BEGIN:VEVENT
DTSTART;VALUE=DATE:20250104
DTEND;VALUE=DATE:20250106
DTSTAMP:20260421T180730
CREATED:20240601T072509Z
LAST-MODIFIED:20250202T213129Z
UID:10002708-1735948800-1736121599@svenskfaktning.se
SUMMARY:World Cup of Switzerland
DESCRIPTION:Åldersklasser: U20Klasser: EMMer information: https://fencing.ophardt.online/sv/widget/event/30285
URL:https://svenskfaktning.se/event/world-cup-of-switzerland-3/
LOCATION:Bale
CATEGORIES:Tävling
END:VEVENT
BEGIN:VEVENT
DTSTART;VALUE=DATE:20250104
DTEND;VALUE=DATE:20250106
DTSTAMP:20260421T180730
CREATED:20240601T072509Z
LAST-MODIFIED:20250202T213129Z
UID:10002709-1735948800-1736121599@svenskfaktning.se
SUMMARY:Alpe Adria
DESCRIPTION:Åldersklasser: U20Klasser: EFMer information: https://fencing.ophardt.online/sv/widget/event/30284
URL:https://svenskfaktning.se/event/alpe-adria-5/
LOCATION:Udine
CATEGORIES:Tävling
END:VEVENT
BEGIN:VEVENT
DTSTART;VALUE=DATE:20250103
DTEND;VALUE=DATE:20250106
DTSTAMP:20260421T180730
CREATED:20240623T122523Z
LAST-MODIFIED:20250201T213222Z
UID:10002797-1735862400-1736121599@svenskfaktning.se
SUMMARY:Fujairah World Cup
DESCRIPTION:Åldersklasser: U20Klasser: FF FMMer information: https://fencing.ophardt.online/sv/widget/event/30446
URL:https://svenskfaktning.se/event/world-cup-95/
LOCATION:Fujairah
CATEGORIES:Tävling
END:VEVENT
BEGIN:VEVENT
DTSTART;VALUE=DATE:20250103
DTEND;VALUE=DATE:20250106
DTSTAMP:20260421T180730
CREATED:20240602T074012Z
LAST-MODIFIED:20250201T213201Z
UID:10002727-1735862400-1736121599@svenskfaktning.se
SUMMARY:Colombian World Cup
DESCRIPTION:Åldersklasser: U20Klasser: SF SMMer information: https://fencing.ophardt.online/sv/widget/event/30306
URL:https://svenskfaktning.se/event/world-cup-81/
LOCATION:Bogota
CATEGORIES:Tävling
END:VEVENT
BEGIN:VEVENT
DTSTART;TZID=Europe/Stockholm:20241228T133000
DTEND;TZID=Europe/Stockholm:20241230T130000
DTSTAMP:20260421T180730
CREATED:20241214T065153Z
LAST-MODIFIED:20241214T065221Z
UID:10002944-1735392600-1735563600@svenskfaktning.se
SUMMARY:Framtidsläger
DESCRIPTION:Inbjudan Framtidsläger 28-30 december 2024
URL:https://svenskfaktning.se/event/framtidslager/
CATEGORIES:Verksamhet
END:VEVENT
BEGIN:VEVENT
DTSTART;TZID=Europe/Stockholm:20241228T133000
DTEND;TZID=Europe/Stockholm:20241230T130000
DTSTAMP:20260421T180730
CREATED:20241210T092016Z
LAST-MODIFIED:20241210T092038Z
UID:10002943-1735392600-1735563600@svenskfaktning.se
SUMMARY:Framtidsläger mellandagarna 2024
DESCRIPTION:Inbjudan Framtidsläger 28-30 december 2024
URL:https://svenskfaktning.se/event/framtidslager-mellandagarna-2024/
CATEGORIES:Verksamhet
END:VEVENT
BEGIN:VEVENT
DTSTART;TZID=Europe/Stockholm:20241226T153000
DTEND;TZID=Europe/Stockholm:20241230T150000
DTSTAMP:20260421T180730
CREATED:20241129T160257Z
LAST-MODIFIED:20241129T160257Z
UID:10002934-1735227000-1735570800@svenskfaktning.se
SUMMARY:Landslagssamling herrvärja
DESCRIPTION:Landslagssamling herrvärja 26-30 december 2024
URL:https://svenskfaktning.se/event/landslagssamling-herrvarja/
CATEGORIES:Verksamhet
END:VEVENT
BEGIN:VEVENT
DTSTART;TZID=Europe/Stockholm:20241226T153000
DTEND;TZID=Europe/Stockholm:20241230T150000
DTSTAMP:20260421T180730
CREATED:20241129T155507Z
LAST-MODIFIED:20241203T091546Z
UID:10002933-1735227000-1735570800@svenskfaktning.se
SUMMARY:Landslagssamling damvärja
DESCRIPTION:https://svenskfaktning.se/2024/11/27/landslagssamling-damvarja-junior-och-kadett-26-30-december-2024/
URL:https://svenskfaktning.se/event/landslagssamling-damvarja-26-30-december-2024/
CATEGORIES:Verksamhet
END:VEVENT
BEGIN:VEVENT
DTSTART;VALUE=DATE:20241222
DTEND;VALUE=DATE:20241223
DTSTAMP:20260421T180730
CREATED:20241003T112554Z
LAST-MODIFIED:20250120T211701Z
UID:10002873-1734825600-1734911999@svenskfaktning.se
SUMMARY:42 Cvetkov memorial
DESCRIPTION:Åldersklasser: U14Klasser: FF FMMer information: https://fencing.ophardt.online/sv/widget/event/31059
URL:https://svenskfaktning.se/event/42-cvetkov-memorial/
LOCATION:Ljubljana
CATEGORIES:Tävling
END:VEVENT
BEGIN:VEVENT
DTSTART;VALUE=DATE:20241214
DTEND;VALUE=DATE:20241216
DTSTAMP:20260421T180730
CREATED:20241109T170205Z
LAST-MODIFIED:20250112T211650Z
UID:10002929-1734134400-1734307199@svenskfaktning.se
SUMMARY:Riga Christmas Cup
DESCRIPTION:Åldersklasser: U14Klasser: FF FMMer information: https://fencing.ophardt.online/sv/widget/event/31058
URL:https://svenskfaktning.se/event/riga-christmas-cup/
LOCATION:Riga
END:VEVENT
BEGIN:VEVENT
DTSTART;VALUE=DATE:20241214
DTEND;VALUE=DATE:20241216
DTSTAMP:20260421T180730
CREATED:20240602T074012Z
LAST-MODIFIED:20250112T211649Z
UID:10002724-1734134400-1734307199@svenskfaktning.se
SUMMARY:Trojans
DESCRIPTION:Åldersklasser: U20Klasser: EMMer information: https://fencing.ophardt.online/sv/widget/event/30290
URL:https://svenskfaktning.se/event/world-cup-80/
LOCATION:Lagos
CATEGORIES:Tävling
END:VEVENT
BEGIN:VEVENT
DTSTART;VALUE=DATE:20241214
DTEND;VALUE=DATE:20241216
DTSTAMP:20260421T180730
CREATED:20240602T074012Z
LAST-MODIFIED:20250112T211650Z
UID:10002725-1734134400-1734307199@svenskfaktning.se
SUMMARY:Héraklész Budapest Cup
DESCRIPTION:Åldersklasser: U20Klasser: SFMer information: https://fencing.ophardt.online/sv/widget/event/30300
URL:https://svenskfaktning.se/event/heraklesz-budapest-cup-4/
LOCATION:Budapest
CATEGORIES:Tävling
END:VEVENT
BEGIN:VEVENT
DTSTART;VALUE=DATE:20241214
DTEND;VALUE=DATE:20241216
DTSTAMP:20260421T180730
CREATED:20240602T074012Z
LAST-MODIFIED:20250112T211650Z
UID:10002726-1734134400-1734307199@svenskfaktning.se
SUMMARY:47 Preis der Chemiestadt
DESCRIPTION:Åldersklasser: U20Klasser: SMMer information: https://fencing.ophardt.online/sv/widget/event/30301
URL:https://svenskfaktning.se/event/32-preis-der-chemiestadt/
LOCATION:Dormagen
CATEGORIES:Tävling
END:VEVENT
BEGIN:VEVENT
DTSTART;VALUE=DATE:20241214
DTEND;VALUE=DATE:20241216
DTSTAMP:20260421T180730
CREATED:20240602T074011Z
LAST-MODIFIED:20250112T211649Z
UID:10002723-1734134400-1734307199@svenskfaktning.se
SUMMARY:2024 Swedish Championships for U23
DESCRIPTION:Åldersklasser: U23Klasser: EF EM FF FMInbjudan: https://fencing.ophardt.online/sv/invitation/view/30288/pdfMer information: https://fencing.ophardt.online/sv/widget/event/30288
URL:https://svenskfaktning.se/event/2024-swedish-championships-for-u23/
LOCATION:Stockholm
CATEGORIES:Tävling
END:VEVENT
BEGIN:VEVENT
DTSTART;VALUE=DATE:20241214
DTEND;VALUE=DATE:20241216
DTSTAMP:20260421T180730
CREATED:20240601T072509Z
LAST-MODIFIED:20250112T211649Z
UID:10002706-1734134400-1734307199@svenskfaktning.se
SUMMARY:2024 Svenska mästerskapen lag
DESCRIPTION:Åldersklasser: SeniorerKlasser: EF EM FF FM SMInbjudan: https://fencing.ophardt.online/sv/invitation/view/30268/pdfMer information: https://fencing.ophardt.online/sv/widget/event/30268
URL:https://svenskfaktning.se/event/2024-svenska-masterskapen-lag/
LOCATION:Stockholm
CATEGORIES:Tävling
END:VEVENT
BEGIN:VEVENT
DTSTART;VALUE=DATE:20241214
DTEND;VALUE=DATE:20241216
DTSTAMP:20260421T180730
CREATED:20240601T072509Z
LAST-MODIFIED:20250112T211650Z
UID:10002707-1734134400-1734307199@svenskfaktning.se
SUMMARY:26 Ciudad de Burgos
DESCRIPTION:Åldersklasser: U20Klasser: EFMer information: https://fencing.ophardt.online/sv/widget/event/30283
URL:https://svenskfaktning.se/event/26-ciudad-de-burgos/
LOCATION:Burgos
CATEGORIES:Tävling
END:VEVENT
BEGIN:VEVENT
DTSTART;VALUE=DATE:20241213
DTEND;VALUE=DATE:20241216
DTSTAMP:20260421T180730
CREATED:20240623T122522Z
LAST-MODIFIED:20250111T211641Z
UID:10002796-1734048000-1734307199@svenskfaktning.se
SUMMARY:Bangkok World Cup
DESCRIPTION:Åldersklasser: U20Klasser: FF FMMer information: https://fencing.ophardt.online/sv/widget/event/30439
URL:https://svenskfaktning.se/event/world-cup-94/
LOCATION:Bangkok
CATEGORIES:Tävling
END:VEVENT
BEGIN:VEVENT
DTSTART;VALUE=DATE:20241207
DTEND;VALUE=DATE:20241209
DTSTAMP:20260421T180730
CREATED:20241003T112552Z
LAST-MODIFIED:20250105T204712Z
UID:10002872-1733529600-1733702399@svenskfaktning.se
SUMMARY:European Circuit
DESCRIPTION:Åldersklasser: SeniorKlasser: EF EMMer information: https://fencing.ophardt.online/sv/widget/event/31049
URL:https://svenskfaktning.se/event/european-circuit-39/
LOCATION:Luxemburg
CATEGORIES:Tävling
END:VEVENT
BEGIN:VEVENT
DTSTART;VALUE=DATE:20241207
DTEND;VALUE=DATE:20241209
DTSTAMP:20260421T180730
CREATED:20241003T112551Z
LAST-MODIFIED:20250105T204712Z
UID:10002871-1733529600-1733702399@svenskfaktning.se
SUMMARY:European Circuit
DESCRIPTION:Åldersklasser: U14Klasser: EF EMMer information: https://fencing.ophardt.online/sv/widget/event/31137
URL:https://svenskfaktning.se/event/european-circuit-38/
LOCATION:Craiova
CATEGORIES:Tävling
END:VEVENT
BEGIN:VEVENT
DTSTART;VALUE=DATE:20241207
DTEND;VALUE=DATE:20241209
DTSTAMP:20260421T180730
CREATED:20240716T173022Z
LAST-MODIFIED:20250105T204712Z
UID:10002834-1733529600-1733702399@svenskfaktning.se
SUMMARY:5 EVF Circuit Memoriam Max Geuter 2024
DESCRIPTION:Åldersklasser: O40 O50 O60 O70Klasser: FF FM SF SMInbjudan: https://fencing.ophardt.online/sv/invitation/view/30657/pdfMer information: https://fencing.ophardt.online/sv/widget/event/30657
URL:https://svenskfaktning.se/event/5-evf-circuit-memoriam-max-geuter-2024/
LOCATION:Munich
CATEGORIES:Tävling
END:VEVENT
END:VCALENDAR