BEGIN:VCALENDAR
VERSION:2.0
PRODID:-//Svensk Fäktning - ECPv6.15.18//NONSGML v1.0//EN
CALSCALE:GREGORIAN
METHOD:PUBLISH
X-WR-CALNAME:Svensk Fäktning
X-ORIGINAL-URL:https://svenskfaktning.se
X-WR-CALDESC:Händelser för Svensk Fäktning
REFRESH-INTERVAL;VALUE=DURATION:PT1H
X-Robots-Tag:noindex
X-PUBLISHED-TTL:PT1H
BEGIN:VTIMEZONE
TZID:UTC
BEGIN:STANDARD
TZOFFSETFROM:+0000
TZOFFSETTO:+0000
TZNAME:UTC
DTSTART:20240101T000000
END:STANDARD
END:VTIMEZONE
BEGIN:VTIMEZONE
TZID:Europe/Stockholm
BEGIN:DAYLIGHT
TZOFFSETFROM:+0100
TZOFFSETTO:+0200
TZNAME:CEST
DTSTART:20240331T010000
END:DAYLIGHT
BEGIN:STANDARD
TZOFFSETFROM:+0200
TZOFFSETTO:+0100
TZNAME:CET
DTSTART:20241027T010000
END:STANDARD
BEGIN:DAYLIGHT
TZOFFSETFROM:+0100
TZOFFSETTO:+0200
TZNAME:CEST
DTSTART:20250330T010000
END:DAYLIGHT
BEGIN:STANDARD
TZOFFSETFROM:+0200
TZOFFSETTO:+0100
TZNAME:CET
DTSTART:20251026T010000
END:STANDARD
BEGIN:DAYLIGHT
TZOFFSETFROM:+0100
TZOFFSETTO:+0200
TZNAME:CEST
DTSTART:20260329T010000
END:DAYLIGHT
BEGIN:STANDARD
TZOFFSETFROM:+0200
TZOFFSETTO:+0100
TZNAME:CET
DTSTART:20261025T010000
END:STANDARD
END:VTIMEZONE
BEGIN:VEVENT
DTSTART;VALUE=DATE:20250315
DTEND;VALUE=DATE:20250317
DTSTAMP:20260421T163738
CREATED:20240601T072510Z
LAST-MODIFIED:20250413T013147Z
UID:10002715-1741996800-1742169599@svenskfaktning.se
SUMMARY:2025 Stockholm International Veteran Open
DESCRIPTION:Åldersklasser: O40 O50 O60 O70Klasser: EF EM FF FMMer information: https://fencing.ophardt.online/sv/widget/event/30279
URL:https://svenskfaktning.se/event/2025-stockholm-international-veteran-open/
LOCATION:Stockholm
CATEGORIES:Tävling
END:VEVENT
BEGIN:VEVENT
DTSTART;VALUE=DATE:20250315
DTEND;VALUE=DATE:20250316
DTSTAMP:20260421T163738
CREATED:20241003T112611Z
LAST-MODIFIED:20250413T013147Z
UID:10002881-1741996800-1742083199@svenskfaktning.se
SUMMARY:Masthugget Cup III
DESCRIPTION:Åldersklasser: U11 U13 U15Klasser: FOInbjudan: https://fencing.ophardt.online/sv/invitation/view/31129/pdfMer information: https://fencing.ophardt.online/sv/widget/event/31129
URL:https://svenskfaktning.se/event/masthugget-cup-iii-5/
LOCATION:Göteborg
CATEGORIES:Tävling
END:VEVENT
BEGIN:VEVENT
DTSTART;VALUE=DATE:20250315
DTEND;VALUE=DATE:20250316
DTSTAMP:20260421T163738
CREATED:20240810T234034Z
LAST-MODIFIED:20250413T013146Z
UID:10002858-1741996800-1742083199@svenskfaktning.se
SUMMARY:Fencing for Everyone 4
DESCRIPTION:Åldersklasser: U23Klasser: SF SMMer information: https://fencing.ophardt.online/sv/widget/event/30787
URL:https://svenskfaktning.se/event/fencing-for-everyone-4/
LOCATION:Segovia
CATEGORIES:Tävling
END:VEVENT
BEGIN:VEVENT
DTSTART;VALUE=DATE:20250314
DTEND;VALUE=DATE:20250317
DTSTAMP:20260421T163738
CREATED:20241003T112611Z
LAST-MODIFIED:20250412T013141Z
UID:10002882-1741910400-1742169599@svenskfaktning.se
SUMMARY:European Circuit
DESCRIPTION:Åldersklasser: U12 U14 U17Klasser: EF EMMer information: https://fencing.ophardt.online/sv/widget/event/31063
URL:https://svenskfaktning.se/event/european-circuit-42/
LOCATION:Florina
CATEGORIES:Tävling
END:VEVENT
BEGIN:VEVENT
DTSTART;VALUE=DATE:20250314
DTEND;VALUE=DATE:20250317
DTSTAMP:20260421T163738
CREATED:20240622T121435Z
LAST-MODIFIED:20250412T013141Z
UID:10002774-1741910400-1742169599@svenskfaktning.se
SUMMARY:Westend-Grand Prix
DESCRIPTION:Åldersklasser: SeniorKlasser: EF EMMer information: https://fencing.ophardt.online/sv/widget/event/30312
URL:https://svenskfaktning.se/event/westend-grand-prix-4/
LOCATION:Budapest
CATEGORIES:Tävling
END:VEVENT
BEGIN:VEVENT
DTSTART;TZID=Europe/Stockholm:20250308T110000
DTEND;TZID=Europe/Stockholm:20250309T160000
DTSTAMP:20260421T163738
CREATED:20241113T131717Z
LAST-MODIFIED:20241129T125923Z
UID:10002931-1741431600-1741536000@svenskfaktning.se
SUMMARY:Tränarträff & Verksamhetskonferens 2025
DESCRIPTION:Tränarträff\nEn helg med syftet att inspirera er tränare och få möjlighet till att träffas och nätverka med varandra för att lyfta Svensk Fäktning. Vi hoppas att alla lämnar Bosön med en kunskapspåfyllning\, ökad inspiration till att prova något nytt och med en känsla av att sitt nätverk har ökat med andra energifyllda tränare \nMålgrupp: Alla aktiva tränare i föreningar och förbundet
URL:https://svenskfaktning.se/event/tranartraff-elitforeningskonferens-2025/
LOCATION:Bosön\, Lidingö\, 18147\, Sverige
CATEGORIES:Elit,Förening,Verksamhet
END:VEVENT
BEGIN:VEVENT
DTSTART;VALUE=DATE:20250308
DTEND;VALUE=DATE:20250310
DTSTAMP:20260421T163738
CREATED:20241003T112609Z
LAST-MODIFIED:20250406T011649Z
UID:10002880-1741392000-1741564799@svenskfaktning.se
SUMMARY:27 Rapir Cup
DESCRIPTION:Åldersklasser: U14Klasser: FF FMMer information: https://fencing.ophardt.online/sv/widget/event/31062
URL:https://svenskfaktning.se/event/rapir-cup-2/
LOCATION:Zagreb
CATEGORIES:Tävling
END:VEVENT
BEGIN:VEVENT
DTSTART;VALUE=DATE:20250307
DTEND;VALUE=DATE:20250310
DTSTAMP:20260421T163738
CREATED:20240622T121435Z
LAST-MODIFIED:20250405T011644Z
UID:10002773-1741305600-1741564799@svenskfaktning.se
SUMMARY:Coupe Akropolis
DESCRIPTION:Åldersklasser: SeniorKlasser: SFMer information: https://fencing.ophardt.online/sv/widget/event/30395
URL:https://svenskfaktning.se/event/coupe-akropolis-4/
LOCATION:Heraklion
CATEGORIES:Tävling
END:VEVENT
BEGIN:VEVENT
DTSTART;VALUE=DATE:20250306
DTEND;VALUE=DATE:20250310
DTSTAMP:20260421T163738
CREATED:20240622T121434Z
LAST-MODIFIED:20250404T011656Z
UID:10002771-1741219200-1741564799@svenskfaktning.se
SUMMARY:National Bank of Egypt World Cup
DESCRIPTION:Åldersklasser: SeniorKlasser: FF FMMer information: https://fencing.ophardt.online/sv/widget/event/30404
URL:https://svenskfaktning.se/event/national-bank-of-egypt-world-cup-4/
LOCATION:Cairo
CATEGORIES:Tävling
END:VEVENT
BEGIN:VEVENT
DTSTART;VALUE=DATE:20250306
DTEND;VALUE=DATE:20250309
DTSTAMP:20260421T163738
CREATED:20240622T121434Z
LAST-MODIFIED:20250404T011655Z
UID:10002772-1741219200-1741478399@svenskfaktning.se
SUMMARY:World Cup
DESCRIPTION:Åldersklasser: SeniorKlasser: SMMer information: https://fencing.ophardt.online/sv/widget/event/30394
URL:https://svenskfaktning.se/event/world-cup-89/
LOCATION:Padua
CATEGORIES:Tävling
END:VEVENT
BEGIN:VEVENT
DTSTART;TZID=Europe/Stockholm:20250304T203000
DTEND;TZID=Europe/Stockholm:20250304T220000
DTSTAMP:20260421T163738
CREATED:20250120T085009Z
LAST-MODIFIED:20250120T085009Z
UID:10002950-1741120200-1741125600@svenskfaktning.se
SUMMARY:Grundläggande domarutbildning 3
DESCRIPTION:https://svenskfaktning.se/2025/01/08/anmalan-till-grundlaggande-domarutbildning-oppen/
URL:https://svenskfaktning.se/event/grundlaggande-domarutbildning-3/
LOCATION:Teams
CATEGORIES:Verksamhet
END:VEVENT
BEGIN:VEVENT
DTSTART;VALUE=DATE:20250301
DTEND;VALUE=DATE:20250303
DTSTAMP:20260421T163738
CREATED:20240601T072510Z
LAST-MODIFIED:20250330T010147Z
UID:10002716-1740787200-1740959999@svenskfaktning.se
SUMMARY:2025 Challenge Eugène Fillol
DESCRIPTION:Åldersklasser: SeniorerKlasser: EF EMInbjudan: https://fencing.ophardt.online/sv/invitation/view/30270/pdfMer information: https://fencing.ophardt.online/sv/widget/event/30270
URL:https://svenskfaktning.se/event/2025-challenge-eugene-fillol/
LOCATION:Stockholm
CATEGORIES:Tävling
END:VEVENT
BEGIN:VEVENT
DTSTART;VALUE=DATE:20250301
DTEND;VALUE=DATE:20250302
DTSTAMP:20260421T163738
CREATED:20241003T112608Z
LAST-MODIFIED:20250330T010147Z
UID:10002879-1740787200-1740873599@svenskfaktning.se
SUMMARY:2025 Sydsvenska Cupen - Lingiaden
DESCRIPTION:Åldersklasser: Seniorer U11 U13 U15Klasser: EF EM EOInbjudan: https://fencing.ophardt.online/sv/invitation/view/30991/pdfMer information: https://fencing.ophardt.online/sv/widget/event/30991
URL:https://svenskfaktning.se/event/2025-sydsvenska-cupen-lingiaden/
LOCATION:Ljungby
CATEGORIES:Tävling
END:VEVENT
BEGIN:VEVENT
DTSTART;VALUE=DATE:20250227
DTEND;VALUE=DATE:20250303
DTSTAMP:20260421T163738
CREATED:20240429T222509Z
LAST-MODIFIED:20250328T010142Z
UID:10002687-1740614400-1740959999@svenskfaktning.se
SUMMARY:2025 European Championships
DESCRIPTION:Åldersklasser: U20Klasser: EF EM FF FM SF SMMer information: https://fencing.ophardt.online/sv/widget/event/29899
URL:https://svenskfaktning.se/event/2025-european-championships-2/
LOCATION:Antalya
CATEGORIES:Tävling
END:VEVENT
BEGIN:VEVENT
DTSTART;VALUE=DATE:20250223
DTEND;VALUE=DATE:20250227
DTSTAMP:20260421T163738
CREATED:20240426T214010Z
LAST-MODIFIED:20250323T234639Z
UID:10002686-1740268800-1740614399@svenskfaktning.se
SUMMARY:2025 European Championships
DESCRIPTION:Åldersklasser: U17Klasser: EF EM FF FM SF SMMer information: https://fencing.ophardt.online/sv/widget/event/29898
URL:https://svenskfaktning.se/event/2025-european-championships/
LOCATION:Antalya
CATEGORIES:Tävling
END:VEVENT
BEGIN:VEVENT
DTSTART;VALUE=DATE:20250222
DTEND;VALUE=DATE:20250224
DTSTAMP:20260421T163738
CREATED:20241128T184743Z
LAST-MODIFIED:20250322T234637Z
UID:10002936-1740182400-1740355199@svenskfaktning.se
SUMMARY:European Circuit
DESCRIPTION:Åldersklasser: SeniorKlasser: EF EMMer information: https://fencing.ophardt.online/sv/widget/event/31588
URL:https://svenskfaktning.se/event/european-circuit-47/
LOCATION:Budapest
END:VEVENT
BEGIN:VEVENT
DTSTART;TZID=Europe/Stockholm:20250218T203000
DTEND;TZID=Europe/Stockholm:20250218T220000
DTSTAMP:20260421T163738
CREATED:20250120T084928Z
LAST-MODIFIED:20250120T085055Z
UID:10002949-1739910600-1739916000@svenskfaktning.se
SUMMARY:Grundläggande domarutbildning 2
DESCRIPTION:https://svenskfaktning.se/2025/01/08/anmalan-till-grundlaggande-domarutbildning-oppen/
URL:https://svenskfaktning.se/event/grundlaggande-domarutbildning-2/
LOCATION:Teams
CATEGORIES:Verksamhet
END:VEVENT
BEGIN:VEVENT
DTSTART;VALUE=DATE:20250215
DTEND;VALUE=DATE:20250217
DTSTAMP:20260421T163738
CREATED:20240810T234032Z
LAST-MODIFIED:20250315T231640Z
UID:10002857-1739577600-1739750399@svenskfaktning.se
SUMMARY:Fencing for Everyone 3
DESCRIPTION:Åldersklasser: U23Klasser: FF FMMer information: https://fencing.ophardt.online/sv/widget/event/30786
URL:https://svenskfaktning.se/event/fencing-for-everyone-3-3/
LOCATION:Antony
CATEGORIES:Tävling
END:VEVENT
BEGIN:VEVENT
DTSTART;VALUE=DATE:20250215
DTEND;VALUE=DATE:20250217
DTSTAMP:20260421T163738
CREATED:20240602T074014Z
LAST-MODIFIED:20250315T231641Z
UID:10002736-1739577600-1739750399@svenskfaktning.se
SUMMARY:Star Cup
DESCRIPTION:Åldersklasser: U20Klasser: EMMer information: https://fencing.ophardt.online/sv/widget/event/30289
URL:https://svenskfaktning.se/event/star-cup-6/
LOCATION:Vrsac
CATEGORIES:Tävling
END:VEVENT
BEGIN:VEVENT
DTSTART;VALUE=DATE:20250215
DTEND;VALUE=DATE:20250217
DTSTAMP:20260421T163738
CREATED:20240601T072510Z
LAST-MODIFIED:20250315T231641Z
UID:10002714-1739577600-1739750399@svenskfaktning.se
SUMMARY:World Cup
DESCRIPTION:Åldersklasser: U20Klasser: EFMer information: https://fencing.ophardt.online/sv/widget/event/30287
URL:https://svenskfaktning.se/event/world-cup-75/
LOCATION:Beauvais
CATEGORIES:Tävling
END:VEVENT
BEGIN:VEVENT
DTSTART;VALUE=DATE:20250215
DTEND;VALUE=DATE:20250216
DTSTAMP:20260421T163738
CREATED:20241208T191812Z
LAST-MODIFIED:20250315T231641Z
UID:10002939-1739577600-1739663999@svenskfaktning.se
SUMMARY:European Circuit
DESCRIPTION:Åldersklasser: SeniorKlasser: SF SMMer information: https://fencing.ophardt.online/sv/widget/event/31633
URL:https://svenskfaktning.se/event/european-circuit-48/
LOCATION:Budapest
END:VEVENT
BEGIN:VEVENT
DTSTART;TZID=Europe/Stockholm:20250214T173000
DTEND;TZID=Europe/Stockholm:20250216T150000
DTSTAMP:20260421T163738
CREATED:20250124T132000Z
LAST-MODIFIED:20250124T132047Z
UID:10002955-1739554200-1739718000@svenskfaktning.se
SUMMARY:Landslagssamling värja Herrar
DESCRIPTION:Landslagssamling värja Herrar februari 2025
URL:https://svenskfaktning.se/event/kallelse-landslagssamling-varja-herrar-14-16-februari-2025/
CATEGORIES:Verksamhet
END:VEVENT
BEGIN:VEVENT
DTSTART;VALUE=DATE:20250214
DTEND;VALUE=DATE:20250217
DTSTAMP:20260421T163738
CREATED:20240623T122530Z
LAST-MODIFIED:20250314T231703Z
UID:10002812-1739491200-1739750399@svenskfaktning.se
SUMMARY:Tashkent World Cup
DESCRIPTION:Åldersklasser: U20Klasser: FF FMMer information: https://fencing.ophardt.online/sv/widget/event/30445
URL:https://svenskfaktning.se/event/world-cup-100/
LOCATION:Tashkent
CATEGORIES:Tävling
END:VEVENT
BEGIN:VEVENT
DTSTART;VALUE=DATE:20250214
DTEND;VALUE=DATE:20250217
DTSTAMP:20260421T163738
CREATED:20240602T074014Z
LAST-MODIFIED:20250314T231702Z
UID:10002735-1739491200-1739750399@svenskfaktning.se
SUMMARY:Almaty Jastar
DESCRIPTION:Åldersklasser: U20Klasser: SF SMMer information: https://fencing.ophardt.online/sv/widget/event/30307
URL:https://svenskfaktning.se/event/world-cup-84/
LOCATION:Almaty
CATEGORIES:Tävling
END:VEVENT
BEGIN:VEVENT
DTSTART;VALUE=DATE:20250208
DTEND;VALUE=DATE:20250210
DTSTAMP:20260421T163738
CREATED:20241003T112605Z
LAST-MODIFIED:20250308T231641Z
UID:10002877-1738972800-1739145599@svenskfaktning.se
SUMMARY:2025 Swedish Championships seniors
DESCRIPTION:Åldersklasser: SeniorerKlasser: EF EM FF FM SF SMInbjudan: https://fencing.ophardt.online/sv/invitation/view/30961/pdfMer information: https://fencing.ophardt.online/sv/widget/event/30961
URL:https://svenskfaktning.se/event/2025-swedish-championships-seniors/
LOCATION:Borås
CATEGORIES:Tävling
END:VEVENT
BEGIN:VEVENT
DTSTART;VALUE=DATE:20250208
DTEND;VALUE=DATE:20250210
DTSTAMP:20260421T163738
CREATED:20240623T122529Z
LAST-MODIFIED:20250308T231642Z
UID:10002809-1738972800-1739145599@svenskfaktning.se
SUMMARY:Wawel Dragon Trophy
DESCRIPTION:Åldersklasser: U17Klasser: EF EMMer information: https://fencing.ophardt.online/sv/widget/event/30419
URL:https://svenskfaktning.se/event/wawel-dragon-trophy-4/
LOCATION:Krakow
CATEGORIES:Tävling
END:VEVENT
BEGIN:VEVENT
DTSTART;VALUE=DATE:20250208
DTEND;VALUE=DATE:20250210
DTSTAMP:20260421T163738
CREATED:20240623T122529Z
LAST-MODIFIED:20250308T231642Z
UID:10002810-1738972800-1739145599@svenskfaktning.se
SUMMARY:Cadet Circuit
DESCRIPTION:Åldersklasser: U17Klasser: SF SMMer information: https://fencing.ophardt.online/sv/widget/event/30435
URL:https://svenskfaktning.se/event/cadet-circuit-22/
LOCATION:Praha
CATEGORIES:Tävling
END:VEVENT
BEGIN:VEVENT
DTSTART;VALUE=DATE:20250208
DTEND;VALUE=DATE:20250210
DTSTAMP:20260421T163738
CREATED:20240623T122529Z
LAST-MODIFIED:20250308T231641Z
UID:10002811-1738972800-1739145599@svenskfaktning.se
SUMMARY:Sofia Foil Cup
DESCRIPTION:Åldersklasser: U17Klasser: FF FMMer information: https://fencing.ophardt.online/sv/widget/event/30436
URL:https://svenskfaktning.se/event/cadet-circuit-23/
LOCATION:Sofia
CATEGORIES:Tävling
END:VEVENT
BEGIN:VEVENT
DTSTART;VALUE=DATE:20250208
DTEND;VALUE=DATE:20250209
DTSTAMP:20260421T163738
CREATED:20241129T190159Z
LAST-MODIFIED:20250308T231641Z
UID:10002935-1738972800-1739059199@svenskfaktning.se
SUMMARY:Voith Cup
DESCRIPTION:Åldersklasser: SeniorKlasser: EMMer information: https://fencing.ophardt.online/sv/widget/event/31591
URL:https://svenskfaktning.se/event/voith-cup-4/
LOCATION:Heidenheim
END:VEVENT
BEGIN:VEVENT
DTSTART;VALUE=DATE:20250208
DTEND;VALUE=DATE:20250209
DTSTAMP:20260421T163738
CREATED:20240601T072510Z
LAST-MODIFIED:20250308T231641Z
UID:10002713-1738972800-1739059199@svenskfaktning.se
SUMMARY:2025 S:t Erikscupen (4)
DESCRIPTION:Åldersklasser: Seniorer U11 U13 U15 U20Klasser: EF EM EO FOInbjudan: https://fencing.ophardt.online/sv/invitation/view/30261/pdfMer information: https://fencing.ophardt.online/sv/widget/event/30261
URL:https://svenskfaktning.se/event/2025-st-erikscupen-4/
LOCATION:Stockholm
CATEGORIES:Tävling
END:VEVENT
END:VCALENDAR