BEGIN:VCALENDAR
VERSION:2.0
PRODID:-//Svensk Fäktning - ECPv6.15.18//NONSGML v1.0//EN
CALSCALE:GREGORIAN
METHOD:PUBLISH
X-ORIGINAL-URL:https://svenskfaktning.se
X-WR-CALDESC:Händelser för Svensk Fäktning
REFRESH-INTERVAL;VALUE=DURATION:PT1H
X-Robots-Tag:noindex
X-PUBLISHED-TTL:PT1H
BEGIN:VTIMEZONE
TZID:UTC
BEGIN:STANDARD
TZOFFSETFROM:+0000
TZOFFSETTO:+0000
TZNAME:UTC
DTSTART:20230101T000000
END:STANDARD
END:VTIMEZONE
BEGIN:VTIMEZONE
TZID:Europe/Stockholm
BEGIN:DAYLIGHT
TZOFFSETFROM:+0100
TZOFFSETTO:+0200
TZNAME:CEST
DTSTART:20230326T010000
END:DAYLIGHT
BEGIN:STANDARD
TZOFFSETFROM:+0200
TZOFFSETTO:+0100
TZNAME:CET
DTSTART:20231029T010000
END:STANDARD
BEGIN:DAYLIGHT
TZOFFSETFROM:+0100
TZOFFSETTO:+0200
TZNAME:CEST
DTSTART:20240331T010000
END:DAYLIGHT
BEGIN:STANDARD
TZOFFSETFROM:+0200
TZOFFSETTO:+0100
TZNAME:CET
DTSTART:20241027T010000
END:STANDARD
BEGIN:DAYLIGHT
TZOFFSETFROM:+0100
TZOFFSETTO:+0200
TZNAME:CEST
DTSTART:20250330T010000
END:DAYLIGHT
BEGIN:STANDARD
TZOFFSETFROM:+0200
TZOFFSETTO:+0100
TZNAME:CET
DTSTART:20251026T010000
END:STANDARD
END:VTIMEZONE
BEGIN:VEVENT
DTSTART;VALUE=DATE:20241116
DTEND;VALUE=DATE:20241118
DTSTAMP:20260424T002333
CREATED:20240623T122518Z
LAST-MODIFIED:20241215T200207Z
UID:10002790-1731715200-1731887999@svenskfaktning.se
SUMMARY:15 Etropolski’s sabre
DESCRIPTION:Åldersklasser: U17Klasser: SF SMMer information: https://fencing.ophardt.online/sv/widget/event/30427
URL:https://svenskfaktning.se/event/15-etropolskis-sabre/
LOCATION:Sofia
CATEGORIES:Tävling
END:VEVENT
BEGIN:VEVENT
DTSTART;VALUE=DATE:20241116
DTEND;VALUE=DATE:20241118
DTSTAMP:20260424T002333
CREATED:20240601T072508Z
LAST-MODIFIED:20241215T200207Z
UID:10002701-1731715200-1731887999@svenskfaktning.se
SUMMARY:2024 Aramis Cup
DESCRIPTION:Åldersklasser: Seniorer U11 U13 U15 U17 U20Klasser: EM EO FF FM FOInbjudan: https://fencing.ophardt.online/sv/invitation/view/30264/pdfMer information: https://fencing.ophardt.online/sv/widget/event/30264
URL:https://svenskfaktning.se/event/2024-aramis-cup/
LOCATION:Helsingborg
CATEGORIES:Tävling
END:VEVENT
BEGIN:VEVENT
DTSTART;TZID=Europe/Stockholm:20241115T080000
DTEND;TZID=Europe/Stockholm:20241117T170000
DTSTAMP:20260424T002333
CREATED:20241021T103449Z
LAST-MODIFIED:20241021T103451Z
UID:10002924-1731657600-1731862800@svenskfaktning.se
SUMMARY:Landslagssamling värja Herrar
DESCRIPTION:Kallelse landslagssamling värja Herrar 15-17 november 2024
URL:https://svenskfaktning.se/event/landslagssamling-varja-herrar/
CATEGORIES:Verksamhet
END:VEVENT
BEGIN:VEVENT
DTSTART;TZID=Europe/Stockholm:20241115T080000
DTEND;TZID=Europe/Stockholm:20241117T170000
DTSTAMP:20260424T002333
CREATED:20241021T103256Z
LAST-MODIFIED:20241021T103309Z
UID:10002923-1731657600-1731862800@svenskfaktning.se
SUMMARY:Landslagssamling värja Damer
DESCRIPTION:Kallelse landslagssamling värja Damer 15-17 november 2024
URL:https://svenskfaktning.se/event/andslagssamling-varja-damer/
CATEGORIES:Verksamhet
END:VEVENT
BEGIN:VEVENT
DTSTART;VALUE=DATE:20241115
DTEND;VALUE=DATE:20241118
DTSTAMP:20260424T002333
CREATED:20240623T122518Z
LAST-MODIFIED:20241214T194641Z
UID:10002788-1731628800-1731887999@svenskfaktning.se
SUMMARY:Lima World Cup
DESCRIPTION:Åldersklasser: U20Klasser: FF FMMer information: https://fencing.ophardt.online/sv/widget/event/30441
URL:https://svenskfaktning.se/event/world-cup-92/
LOCATION:Lima
CATEGORIES:Tävling
END:VEVENT
BEGIN:VEVENT
DTSTART;VALUE=DATE:20241115
DTEND;VALUE=DATE:20241118
DTSTAMP:20260424T002333
CREATED:20240602T074010Z
LAST-MODIFIED:20241214T194641Z
UID:10002720-1731628800-1731887999@svenskfaktning.se
SUMMARY:Tashkent World Cup
DESCRIPTION:Åldersklasser: U20Klasser: SF SMMer information: https://fencing.ophardt.online/sv/widget/event/30297
URL:https://svenskfaktning.se/event/world-cup-78/
LOCATION:Tashkent
CATEGORIES:Tävling
END:VEVENT
BEGIN:VEVENT
DTSTART;VALUE=DATE:20241115
DTEND;VALUE=DATE:20241117
DTSTAMP:20260424T002333
CREATED:20240601T072508Z
LAST-MODIFIED:20241214T194641Z
UID:10002700-1731628800-1731801599@svenskfaktning.se
SUMMARY:San Jose World Cup
DESCRIPTION:Åldersklasser: U20Klasser: EF EMMer information: https://fencing.ophardt.online/sv/widget/event/30281
URL:https://svenskfaktning.se/event/world-cup-73/
LOCATION:San Jose
CATEGORIES:Tävling
END:VEVENT
BEGIN:VEVENT
DTSTART;VALUE=DATE:20241115
DTEND;VALUE=DATE:20241116
DTSTAMP:20260424T002333
CREATED:20241003T112544Z
LAST-MODIFIED:20241214T194641Z
UID:10002868-1731628800-1731715199@svenskfaktning.se
SUMMARY:Etropolski's sabre
DESCRIPTION:Åldersklasser: U14Klasser: SF SMMer information: https://fencing.ophardt.online/sv/widget/event/31055
URL:https://svenskfaktning.se/event/etropolskis-sabre-2/
LOCATION:Sofia
CATEGORIES:Tävling
END:VEVENT
BEGIN:VEVENT
DTSTART;VALUE=DATE:20241109
DTEND;VALUE=DATE:20241111
DTSTAMP:20260424T002333
CREATED:20240623T122517Z
LAST-MODIFIED:20241208T191841Z
UID:10002787-1731110400-1731283199@svenskfaktning.se
SUMMARY:Cadet Circuit
DESCRIPTION:Åldersklasser: U17Klasser: FFInbjudan: https://fencing.ophardt.online/sv/invitation/view/30424/pdfMer information: https://fencing.ophardt.online/sv/widget/event/30424
URL:https://svenskfaktning.se/event/cadet-ciruit-3/
LOCATION:Nürnberg
CATEGORIES:Tävling
END:VEVENT
BEGIN:VEVENT
DTSTART;VALUE=DATE:20241109
DTEND;VALUE=DATE:20241111
DTSTAMP:20260424T002333
CREATED:20240623T122516Z
LAST-MODIFIED:20241208T191841Z
UID:10002785-1731110400-1731283199@svenskfaktning.se
SUMMARY:Cadet Circuit
DESCRIPTION:Åldersklasser: U17Klasser: FMInbjudan: https://fencing.ophardt.online/sv/invitation/view/30423/pdfMer information: https://fencing.ophardt.online/sv/widget/event/30423
URL:https://svenskfaktning.se/event/cadet-circuit-18/
LOCATION:Nürnberg
CATEGORIES:Tävling
END:VEVENT
BEGIN:VEVENT
DTSTART;VALUE=DATE:20241109
DTEND;VALUE=DATE:20241111
DTSTAMP:20260424T002333
CREATED:20240623T122516Z
LAST-MODIFIED:20241208T191841Z
UID:10002786-1731110400-1731283199@svenskfaktning.se
SUMMARY:Istanbul Cadet Circuit
DESCRIPTION:Åldersklasser: U17Klasser: SF SMMer information: https://fencing.ophardt.online/sv/widget/event/30428
URL:https://svenskfaktning.se/event/cadet-circuit-19/
LOCATION:Istanbul
CATEGORIES:Tävling
END:VEVENT
BEGIN:VEVENT
DTSTART;VALUE=DATE:20241109
DTEND;VALUE=DATE:20241110
DTSTAMP:20260424T002333
CREATED:20240601T072508Z
LAST-MODIFIED:20241208T191841Z
UID:10002699-1731110400-1731196799@svenskfaktning.se
SUMMARY:2024 S:t Erikscupen (2)
DESCRIPTION:Åldersklasser: Seniorer U11 U13 U15 U20Klasser: EF EM EO FOInbjudan: https://fencing.ophardt.online/sv/invitation/view/30259/pdfMer information: https://fencing.ophardt.online/sv/widget/event/30259
URL:https://svenskfaktning.se/event/2024-st-erikscupen-2/
LOCATION:Stockholm
CATEGORIES:Tävling
END:VEVENT
BEGIN:VEVENT
DTSTART;VALUE=DATE:20241108
DTEND;VALUE=DATE:20241111
DTSTAMP:20260424T002333
CREATED:20240617T110016Z
LAST-MODIFIED:20241207T191657Z
UID:10002761-1731024000-1731283199@svenskfaktning.se
SUMMARY:Fujairah World Cup
DESCRIPTION:Åldersklasser: SeniorKlasser: EFMer information: https://fencing.ophardt.online/sv/widget/event/30373
URL:https://svenskfaktning.se/event/world-cup-85/
LOCATION:Fujairah
CATEGORIES:Tävling
END:VEVENT
BEGIN:VEVENT
DTSTART;VALUE=DATE:20241108
DTEND;VALUE=DATE:20241111
DTSTAMP:20260424T002333
CREATED:20240315T115521Z
LAST-MODIFIED:20241207T191657Z
UID:10002685-1731024000-1731283199@svenskfaktning.se
SUMMARY:60 Bern World Cup
DESCRIPTION:Åldersklasser: SeniorKlasser: EMMer information: https://fencing.ophardt.online/sv/widget/event/29843
URL:https://svenskfaktning.se/event/60-bern-world-cup/
LOCATION:Berne
CATEGORIES:Tävling
END:VEVENT
BEGIN:VEVENT
DTSTART;VALUE=DATE:20241108
DTEND;VALUE=DATE:20241109
DTSTAMP:20260424T002333
CREATED:20241111T171635Z
LAST-MODIFIED:20241207T191656Z
UID:10002930-1731024000-1731110399@svenskfaktning.se
SUMMARY:European Circuit
DESCRIPTION:Åldersklasser: U14Klasser: SF SMMer information: https://fencing.ophardt.online/sv/widget/event/31511
URL:https://svenskfaktning.se/event/european-circuit-46/
LOCATION:Istanbul
END:VEVENT
BEGIN:VEVENT
DTSTART;VALUE=DATE:20241107
DTEND;VALUE=DATE:20241111
DTSTAMP:20260424T002333
CREATED:20240622T121427Z
LAST-MODIFIED:20241206T191725Z
UID:10002764-1730937600-1731283199@svenskfaktning.se
SUMMARY:Oran World Cup
DESCRIPTION:Åldersklasser: SeniorKlasser: SF SMMer information: https://fencing.ophardt.online/sv/widget/event/30392
URL:https://svenskfaktning.se/event/world-cup-87/
LOCATION:Oran
CATEGORIES:Tävling
END:VEVENT
BEGIN:VEVENT
DTSTART;TZID=Europe/Stockholm:20241105T203000
DTEND;TZID=Europe/Stockholm:20241105T220000
DTSTAMP:20260424T002333
CREATED:20241015T114628Z
LAST-MODIFIED:20241015T114630Z
UID:10002920-1730838600-1730844000@svenskfaktning.se
SUMMARY:Vidareutbildning till nationell domare 3
DESCRIPTION:
URL:https://svenskfaktning.se/event/vidareutbildning-till-nationell-domare-3/
LOCATION:Teams
CATEGORIES:Verksamhet
END:VEVENT
BEGIN:VEVENT
DTSTART;TZID=Europe/Stockholm:20241104T190000
DTEND;TZID=Europe/Stockholm:20241104T203000
DTSTAMP:20260424T002333
CREATED:20241015T083314Z
LAST-MODIFIED:20241021T103656Z
UID:10002915-1730746800-1730752200@svenskfaktning.se
SUMMARY:Safeguarding/Trygg Fäktning 2
DESCRIPTION:Måndag den 21/10 och måndag den 4/11\, 19:00-20:30\, kommer vår första utbildning i Safeguarding/Trygg Fäktning att hållas digitalt. Den kommer att ge diplom som framöver krävs av alla trygghetsansvariga på tävling och klubb.  \n\n\n\n\nKurs för Safeguarding Officer / Trygghetsansvarig
URL:https://svenskfaktning.se/event/safeguarding-trygg-faktning-dag-2/
LOCATION:Teams
CATEGORIES:Verksamhet
END:VEVENT
BEGIN:VEVENT
DTSTART;VALUE=DATE:20241102
DTEND;VALUE=DATE:20241104
DTSTAMP:20260424T002333
CREATED:20241003T112539Z
LAST-MODIFIED:20241201T190141Z
UID:10002865-1730505600-1730678399@svenskfaktning.se
SUMMARY:Floreta Cup
DESCRIPTION:Åldersklasser: U14Klasser: FF FMMer information: https://fencing.ophardt.online/sv/widget/event/31225
URL:https://svenskfaktning.se/event/european-circuit-37/
LOCATION:Timisoara
CATEGORIES:Tävling
END:VEVENT
BEGIN:VEVENT
DTSTART;TZID=UTC:20241102T000000
DTEND;TZID=UTC:20241103T235959
DTSTAMP:20260424T002333
CREATED:20241003T112539Z
LAST-MODIFIED:20241030T150143Z
UID:10002866-1730505600-1730678399@svenskfaktning.se
SUMMARY:Sokol Cup
DESCRIPTION:Åldersklasser: SeniorKlasser: SF SMMer information: https://fencing.ophardt.online/sv/widget/event/31002
URL:https://svenskfaktning.se/event/sokol-cup-annullerad/
LOCATION:Brno
CATEGORIES:Tävling
END:VEVENT
BEGIN:VEVENT
DTSTART;VALUE=DATE:20241102
DTEND;VALUE=DATE:20241104
DTSTAMP:20260424T002333
CREATED:20241003T112538Z
LAST-MODIFIED:20241201T190141Z
UID:10002864-1730505600-1730678399@svenskfaktning.se
SUMMARY:2024 European Circuit
DESCRIPTION:Åldersklasser: U14Klasser: EF EMMer information: https://fencing.ophardt.online/sv/widget/event/31057
URL:https://svenskfaktning.se/event/2024-european-circuit/
LOCATION:Riga
CATEGORIES:Tävling
END:VEVENT
BEGIN:VEVENT
DTSTART;VALUE=DATE:20241102
DTEND;VALUE=DATE:20241104
DTSTAMP:20260424T002333
CREATED:20240602T074009Z
LAST-MODIFIED:20241201T190142Z
UID:10002719-1730505600-1730678399@svenskfaktning.se
SUMMARY:Tehran Junior World Cup Annullerad
DESCRIPTION:Åldersklasser: U20Klasser: SMMer information: https://fencing.ophardt.online/sv/widget/event/30299
URL:https://svenskfaktning.se/event/world-cup-77/
LOCATION:Teheran
CATEGORIES:Tävling
END:VEVENT
BEGIN:VEVENT
DTSTART;VALUE=DATE:20241102
DTEND;VALUE=DATE:20241104
DTSTAMP:20260424T002333
CREATED:20240601T072507Z
LAST-MODIFIED:20241201T190141Z
UID:10002698-1730505600-1730678399@svenskfaktning.se
SUMMARY:2024 Kanikowski Cup -  Nordic Championships
DESCRIPTION:Åldersklasser: Seniorer U13 U15 U17 U20Klasser: FF FMInbjudan: https://fencing.ophardt.online/sv/invitation/view/30183/pdfMer information: https://fencing.ophardt.online/sv/widget/event/30183
URL:https://svenskfaktning.se/event/2024-kanikowski-cup-nordic-championships/
LOCATION:Kalmar
CATEGORIES:Tävling
END:VEVENT
BEGIN:VEVENT
DTSTART;VALUE=DATE:20241101
DTEND;VALUE=DATE:20241104
DTSTAMP:20260424T002333
CREATED:20240623T122516Z
LAST-MODIFIED:20241130T190132Z
UID:10002784-1730419200-1730678399@svenskfaktning.se
SUMMARY:Istanbul Junior World Cup
DESCRIPTION:Åldersklasser: U20Klasser: FF FMMer information: https://fencing.ophardt.online/sv/widget/event/30440
URL:https://svenskfaktning.se/event/world-cup-91/
LOCATION:Istanbul
CATEGORIES:Tävling
END:VEVENT
BEGIN:VEVENT
DTSTART;VALUE=DATE:20241101
DTEND;VALUE=DATE:20241104
DTSTAMP:20260424T002333
CREATED:20240601T072507Z
LAST-MODIFIED:20241130T190132Z
UID:10002697-1730419200-1730678399@svenskfaktning.se
SUMMARY:San Salvador World Cup
DESCRIPTION:Åldersklasser: U20Klasser: EF EMMer information: https://fencing.ophardt.online/sv/widget/event/30280
URL:https://svenskfaktning.se/event/world-cup-72/
LOCATION:San Salvador
CATEGORIES:Tävling
END:VEVENT
BEGIN:VEVENT
DTSTART;VALUE=DATE:20241101
DTEND;VALUE=DATE:20241103
DTSTAMP:20260424T002333
CREATED:20240602T074009Z
LAST-MODIFIED:20241130T190133Z
UID:10002718-1730419200-1730591999@svenskfaktning.se
SUMMARY:Busan Junior World Cup
DESCRIPTION:Åldersklasser: U20Klasser: SFMer information: https://fencing.ophardt.online/sv/widget/event/30298
URL:https://svenskfaktning.se/event/world-cup-76/
LOCATION:Busan
CATEGORIES:Tävling
END:VEVENT
BEGIN:VEVENT
DTSTART;TZID=Europe/Stockholm:20241031T190000
DTEND;TZID=Europe/Stockholm:20241031T203000
DTSTAMP:20260424T002334
CREATED:20241030T095621Z
LAST-MODIFIED:20241030T100024Z
UID:10002926-1730401200-1730406600@svenskfaktning.se
SUMMARY:Extra tillfälle Safeguarding/Trygg Fäktning 1
DESCRIPTION:Extra kurstillfälle 1 Trygghetsansvarig
URL:https://svenskfaktning.se/event/extra-kurstillfalle-1-trygghetsansvarig/
LOCATION:Teams
CATEGORIES:Verksamhet
END:VEVENT
BEGIN:VEVENT
DTSTART;VALUE=DATE:20241026
DTEND;VALUE=DATE:20241028
DTSTAMP:20260424T002334
CREATED:20241023T140150Z
LAST-MODIFIED:20241124T181652Z
UID:10002927-1729900800-1730073599@svenskfaktning.se
SUMMARY:2024 Iasi Trophy
DESCRIPTION:Åldersklasser: U14Klasser: SF SMMer information: https://fencing.ophardt.online/sv/widget/event/31441
URL:https://svenskfaktning.se/event/2024-riposta-cup/
LOCATION:Iasi
END:VEVENT
BEGIN:VEVENT
DTSTART;VALUE=DATE:20241026
DTEND;VALUE=DATE:20241028
DTSTAMP:20260424T002334
CREATED:20241003T112536Z
LAST-MODIFIED:20241124T181653Z
UID:10002863-1729900800-1730073599@svenskfaktning.se
SUMMARY:West Coast Challenge
DESCRIPTION:Åldersklasser: U11 U13Klasser: FOInbjudan: https://fencing.ophardt.online/sv/invitation/view/30962/pdfMer information: https://fencing.ophardt.online/sv/widget/event/30962
URL:https://svenskfaktning.se/event/west-coast-challenge-5/
LOCATION:Gothenburg
CATEGORIES:Tävling
END:VEVENT
BEGIN:VEVENT
DTSTART;VALUE=DATE:20241026
DTEND;VALUE=DATE:20241028
DTSTAMP:20260424T002334
CREATED:20240810T234015Z
LAST-MODIFIED:20241124T181654Z
UID:10002850-1729900800-1730073599@svenskfaktning.se
SUMMARY:Oslo Cup
DESCRIPTION:Åldersklasser: U23Klasser: EF EMMer information: https://fencing.ophardt.online/sv/widget/event/30779
URL:https://svenskfaktning.se/event/fencing-for-everyone-1-2/
LOCATION:Oslo
CATEGORIES:Tävling
END:VEVENT
END:VCALENDAR