BEGIN:VCALENDAR
VERSION:2.0
PRODID:-//Svensk Fäktning - ECPv6.15.18//NONSGML v1.0//EN
CALSCALE:GREGORIAN
METHOD:PUBLISH
X-WR-CALNAME:Svensk Fäktning
X-ORIGINAL-URL:https://svenskfaktning.se
X-WR-CALDESC:Händelser för Svensk Fäktning
REFRESH-INTERVAL;VALUE=DURATION:PT1H
X-Robots-Tag:noindex
X-PUBLISHED-TTL:PT1H
BEGIN:VTIMEZONE
TZID:UTC
BEGIN:STANDARD
TZOFFSETFROM:+0000
TZOFFSETTO:+0000
TZNAME:UTC
DTSTART:20230101T000000
END:STANDARD
END:VTIMEZONE
BEGIN:VTIMEZONE
TZID:Europe/Stockholm
BEGIN:DAYLIGHT
TZOFFSETFROM:+0100
TZOFFSETTO:+0200
TZNAME:CEST
DTSTART:20230326T010000
END:DAYLIGHT
BEGIN:STANDARD
TZOFFSETFROM:+0200
TZOFFSETTO:+0100
TZNAME:CET
DTSTART:20231029T010000
END:STANDARD
BEGIN:DAYLIGHT
TZOFFSETFROM:+0100
TZOFFSETTO:+0200
TZNAME:CEST
DTSTART:20240331T010000
END:DAYLIGHT
BEGIN:STANDARD
TZOFFSETFROM:+0200
TZOFFSETTO:+0100
TZNAME:CET
DTSTART:20241027T010000
END:STANDARD
BEGIN:DAYLIGHT
TZOFFSETFROM:+0100
TZOFFSETTO:+0200
TZNAME:CEST
DTSTART:20250330T010000
END:DAYLIGHT
BEGIN:STANDARD
TZOFFSETFROM:+0200
TZOFFSETTO:+0100
TZNAME:CET
DTSTART:20251026T010000
END:STANDARD
END:VTIMEZONE
BEGIN:VEVENT
DTSTART;VALUE=DATE:20241012
DTEND;VALUE=DATE:20241014
DTSTAMP:20260424T025941
CREATED:20241003T112533Z
LAST-MODIFIED:20241110T171706Z
UID:10002862-1728691200-1728863999@svenskfaktning.se
SUMMARY:European Circuit
DESCRIPTION:Åldersklasser: U14Klasser: EF EM SF SMMer information: https://fencing.ophardt.online/sv/widget/event/31054
URL:https://svenskfaktning.se/event/european-circuit-36/
LOCATION:Zestaponi
CATEGORIES:Tävling
END:VEVENT
BEGIN:VEVENT
DTSTART;VALUE=DATE:20241012
DTEND;VALUE=DATE:20241014
DTSTAMP:20260424T025941
CREATED:20240716T173012Z
LAST-MODIFIED:20241110T171706Z
UID:10002828-1728691200-1728863999@svenskfaktning.se
SUMMARY:Satellite Tournament Annullerad
DESCRIPTION:Åldersklasser: SeniorKlasser: SFMer information: https://fencing.ophardt.online/sv/widget/event/30650
URL:https://svenskfaktning.se/event/satellite-tournament-22/
LOCATION:Riyadh
CATEGORIES:Tävling
END:VEVENT
BEGIN:VEVENT
DTSTART;VALUE=DATE:20241012
DTEND;VALUE=DATE:20241014
DTSTAMP:20260424T025941
CREATED:20240623T122512Z
LAST-MODIFIED:20241110T171706Z
UID:10002780-1728691200-1728863999@svenskfaktning.se
SUMMARY:Budapest Cup
DESCRIPTION:Åldersklasser: U17Klasser: EF EMMer information: https://fencing.ophardt.online/sv/widget/event/30413
URL:https://svenskfaktning.se/event/budapest-cup-9/
LOCATION:Budapest
CATEGORIES:Tävling
END:VEVENT
BEGIN:VEVENT
DTSTART;VALUE=DATE:20241012
DTEND;VALUE=DATE:20241014
DTSTAMP:20260424T025941
CREATED:20240623T122510Z
LAST-MODIFIED:20241110T171706Z
UID:10002777-1728691200-1728863999@svenskfaktning.se
SUMMARY:25 Huniber Cup
DESCRIPTION:Åldersklasser: U17Klasser: SF SMMer information: https://fencing.ophardt.online/sv/widget/event/30430
URL:https://svenskfaktning.se/event/25-huniber-cup/
LOCATION:Budapest
CATEGORIES:Tävling
END:VEVENT
BEGIN:VEVENT
DTSTART;VALUE=DATE:20241012
DTEND;VALUE=DATE:20241014
DTSTAMP:20260424T025941
CREATED:20240617T110013Z
LAST-MODIFIED:20241110T171706Z
UID:10002753-1728691200-1728863999@svenskfaktning.se
SUMMARY:St.Duje Cup
DESCRIPTION:Åldersklasser: SeniorKlasser: EF EMMer information: https://fencing.ophardt.online/sv/widget/event/30362
URL:https://svenskfaktning.se/event/st-duje-cup-4/
LOCATION:Split
CATEGORIES:Tävling
END:VEVENT
BEGIN:VEVENT
DTSTART;VALUE=DATE:20241012
DTEND;VALUE=DATE:20241014
DTSTAMP:20260424T025941
CREATED:20240617T110013Z
LAST-MODIFIED:20241110T171706Z
UID:10002754-1728691200-1728863999@svenskfaktning.se
SUMMARY:Singapore Satellite
DESCRIPTION:Åldersklasser: SeniorKlasser: FF FMMer information: https://fencing.ophardt.online/sv/widget/event/30367
URL:https://svenskfaktning.se/event/satellite-9/
LOCATION:Singapore
CATEGORIES:Tävling
END:VEVENT
BEGIN:VEVENT
DTSTART;VALUE=DATE:20241012
DTEND;VALUE=DATE:20241013
DTSTAMP:20260424T025941
CREATED:20241003T112533Z
LAST-MODIFIED:20241110T171707Z
UID:10002861-1728691200-1728777599@svenskfaktning.se
SUMMARY:2024 Kupittaa Tournament
DESCRIPTION:Åldersklasser: SeniorKlasser: EF EMInbjudan: https://fencing.ophardt.online/sv/invitation/view/30317/pdfMer information: https://fencing.ophardt.online/sv/widget/event/30317
URL:https://svenskfaktning.se/event/2024-kupittaa-tournament/
LOCATION:Turku
CATEGORIES:Tävling
END:VEVENT
BEGIN:VEVENT
DTSTART;VALUE=DATE:20241012
DTEND;VALUE=DATE:20241013
DTSTAMP:20260424T025941
CREATED:20240617T110013Z
LAST-MODIFIED:20241110T171706Z
UID:10002752-1728691200-1728777599@svenskfaktning.se
SUMMARY:Kuwait Sabre Satellite Annullerad
DESCRIPTION:Åldersklasser: SeniorKlasser: SMMer information: https://fencing.ophardt.online/sv/widget/event/30368
URL:https://svenskfaktning.se/event/satellite-tournament-18/
LOCATION:Kuweit City
CATEGORIES:Tävling
END:VEVENT
BEGIN:VEVENT
DTSTART;VALUE=DATE:20241011
DTEND;VALUE=DATE:20241018
DTSTAMP:20260424T025941
CREATED:20231206T205555Z
LAST-MODIFIED:20241109T170152Z
UID:10002674-1728604800-1729209599@svenskfaktning.se
SUMMARY:28 World Championships Veterans 2024
DESCRIPTION:Åldersklasser: O150 O50 O60 O70Klasser: EF EM FF FM SF SMMer information: https://fencing.ophardt.online/sv/widget/event/26916
URL:https://svenskfaktning.se/event/28-world-championships-veterans-2024/
LOCATION:Dubai
CATEGORIES:Tävling
END:VEVENT
BEGIN:VEVENT
DTSTART;VALUE=DATE:20241011
DTEND;VALUE=DATE:20241014
DTSTAMP:20260424T025941
CREATED:20240626T125511Z
LAST-MODIFIED:20241109T170152Z
UID:10002814-1728604800-1728863999@svenskfaktning.se
SUMMARY:Coupe d'Europe
DESCRIPTION:Åldersklasser: SeniorKlasser: EF EM FF FM SF SMMer information: https://fencing.ophardt.online/sv/widget/event/30458
URL:https://svenskfaktning.se/event/coupe-deurope-9/
LOCATION:Heidenheim
CATEGORIES:Tävling
END:VEVENT
BEGIN:VEVENT
DTSTART;VALUE=DATE:20241011
DTEND;VALUE=DATE:20241014
DTSTAMP:20260424T025941
CREATED:20240623T122512Z
LAST-MODIFIED:20241109T170153Z
UID:10002782-1728604800-1728863999@svenskfaktning.se
SUMMARY:32 Coupe de Samaria
DESCRIPTION:Åldersklasser: U17Klasser: FF FMMer information: https://fencing.ophardt.online/sv/widget/event/30421
URL:https://svenskfaktning.se/event/32-coupe-de-samaria/
LOCATION:Samorin
CATEGORIES:Tävling
END:VEVENT
BEGIN:VEVENT
DTSTART;TZID=Europe/Stockholm:20241008T203000
DTEND;TZID=Europe/Stockholm:20241008T220000
DTSTAMP:20260424T025941
CREATED:20241015T114257Z
LAST-MODIFIED:20241015T114347Z
UID:10002918-1728419400-1728424800@svenskfaktning.se
SUMMARY:Vidareutbildning till nationell domare 1
DESCRIPTION:
URL:https://svenskfaktning.se/event/vidareutbildning-till-nationell-domare-1/
LOCATION:Teams
CATEGORIES:Verksamhet
END:VEVENT
BEGIN:VEVENT
DTSTART;VALUE=DATE:20241005
DTEND;VALUE=DATE:20241007
DTSTAMP:20260424T025941
CREATED:20240623T122512Z
LAST-MODIFIED:20241103T153130Z
UID:10002778-1728086400-1728259199@svenskfaktning.se
SUMMARY:Napoli Cadet Circuit
DESCRIPTION:Åldersklasser: U17Klasser: EF EMMer information: https://fencing.ophardt.online/sv/widget/event/30412
URL:https://svenskfaktning.se/event/cadet-circuit-16/
LOCATION:Neaples
CATEGORIES:Tävling
END:VEVENT
BEGIN:VEVENT
DTSTART;VALUE=DATE:20241005
DTEND;VALUE=DATE:20241007
DTSTAMP:20260424T025941
CREATED:20240617T110012Z
LAST-MODIFIED:20241103T153130Z
UID:10002749-1728086400-1728259199@svenskfaktning.se
SUMMARY:Geneva Tournament
DESCRIPTION:Åldersklasser: SeniorKlasser: EF EMMer information: https://fencing.ophardt.online/sv/widget/event/30359
URL:https://svenskfaktning.se/event/geneva-tournament-6/
LOCATION:Genève
CATEGORIES:Tävling
END:VEVENT
BEGIN:VEVENT
DTSTART;VALUE=DATE:20241005
DTEND;VALUE=DATE:20241007
DTSTAMP:20260424T025941
CREATED:20240617T110012Z
LAST-MODIFIED:20241103T153130Z
UID:10002750-1728086400-1728259199@svenskfaktning.se
SUMMARY:Satellite Tournament
DESCRIPTION:Åldersklasser: SeniorKlasser: SF SMMer information: https://fencing.ophardt.online/sv/widget/event/30360
URL:https://svenskfaktning.se/event/satellite-tournament-17/
LOCATION:Sofia
CATEGORIES:Tävling
END:VEVENT
BEGIN:VEVENT
DTSTART;VALUE=DATE:20241005
DTEND;VALUE=DATE:20241007
DTSTAMP:20260424T025941
CREATED:20240617T110012Z
LAST-MODIFIED:20241103T153130Z
UID:10002751-1728086400-1728259199@svenskfaktning.se
SUMMARY:San Jose Epee Annullerad
DESCRIPTION:Åldersklasser: SeniorKlasser: EF EMMer information: https://fencing.ophardt.online/sv/widget/event/30361
URL:https://svenskfaktning.se/event/san-jose-epee/
LOCATION:San Jose
CATEGORIES:Tävling
END:VEVENT
BEGIN:VEVENT
DTSTART;VALUE=DATE:20241005
DTEND;VALUE=DATE:20241007
DTSTAMP:20260424T025941
CREATED:20240515T031009Z
LAST-MODIFIED:20241103T153130Z
UID:10002691-1728086400-1728259199@svenskfaktning.se
SUMMARY:2024 Örebro Masters - Nordic Championships
DESCRIPTION:Åldersklasser: U13 U15 U17 U20Klasser: EF EMInbjudan: https://fencing.ophardt.online/sv/invitation/view/30178/pdfMer information: https://fencing.ophardt.online/sv/widget/event/30178
URL:https://svenskfaktning.se/event/2024-orebro-masters-nch-for-epee-jun-and-kad/
LOCATION:Örebro
CATEGORIES:Tävling
END:VEVENT
BEGIN:VEVENT
DTSTART;TZID=Europe/Stockholm:20241003T203000
DTEND;TZID=Europe/Stockholm:20241003T213000
DTSTAMP:20260424T025941
CREATED:20241015T114000Z
LAST-MODIFIED:20241015T114005Z
UID:10002917-1727987400-1727991000@svenskfaktning.se
SUMMARY:Föreläsning för EFC och FIE domare
DESCRIPTION:SvFF DK\, i samarbete med den nordiska domarkommissionen\, bjuder in alla domare som är aktiva i EFC- och FIE-tävlingar att delta i ett seminarium där föreläsare kommer att vara Vilem Madr\, medlem i EFC:s domarkommission. \n\n\n\nNaturligtvis är alla domare på Nationell nivå välkomna – det kommer att vara en möjlighet för dem att klara det obligatoriska seminariekravet.
URL:https://svenskfaktning.se/event/forelasning-for-efc-och-fie-domare/
CATEGORIES:Verksamhet
END:VEVENT
BEGIN:VEVENT
DTSTART;TZID=UTC:20240929T000000
DTEND;TZID=UTC:20240929T235959
DTSTAMP:20260424T025941
CREATED:20241003T131041Z
LAST-MODIFIED:20241028T144722Z
UID:10002905-1727568000-1727654399@svenskfaktning.se
SUMMARY:EFC U14 Circuit
DESCRIPTION:Åldersklasser: U14Klasser: SF SMInbjudan: https://fencing.ophardt.online/sv/invitation/view/30957/pdfMer information: https://fencing.ophardt.online/sv/widget/event/30957
URL:https://svenskfaktning.se/event/efc-u14-circuit/
LOCATION:Mainz
END:VEVENT
BEGIN:VEVENT
DTSTART;TZID=UTC:20240929T000000
DTEND;TZID=UTC:20240929T235959
DTSTAMP:20260424T025941
CREATED:20240617T110011Z
LAST-MODIFIED:20241028T144722Z
UID:10002747-1727568000-1727654399@svenskfaktning.se
SUMMARY:26 Flemish Open
DESCRIPTION:Åldersklasser: SeniorKlasser: SF SMMer information: https://fencing.ophardt.online/sv/widget/event/30352
URL:https://svenskfaktning.se/event/26-flemish-open/
LOCATION:Wachtebeke
CATEGORIES:Tävling
END:VEVENT
BEGIN:VEVENT
DTSTART;TZID=UTC:20240928T000000
DTEND;TZID=UTC:20240929T235959
DTSTAMP:20260424T025941
CREATED:20241003T131042Z
LAST-MODIFIED:20241027T143137Z
UID:10002907-1727481600-1727654399@svenskfaktning.se
SUMMARY:2024 Luleå Cup
DESCRIPTION:Åldersklasser: Seniorer U13 U15 U20Klasser: EOInbjudan: https://fencing.ophardt.online/sv/invitation/view/30341/pdfMer information: https://fencing.ophardt.online/sv/widget/event/30341
URL:https://svenskfaktning.se/event/2024-lulea-cup/
LOCATION:Lulea
END:VEVENT
BEGIN:VEVENT
DTSTART;TZID=UTC:20240928T000000
DTEND;TZID=UTC:20240929T235959
DTSTAMP:20260424T025941
CREATED:20240623T122512Z
LAST-MODIFIED:20241027T143135Z
UID:10002779-1727481600-1727654399@svenskfaktning.se
SUMMARY:16 Witold Woyda's Foil
DESCRIPTION:Åldersklasser: U17Klasser: FMMer information: https://fencing.ophardt.online/sv/widget/event/30420
URL:https://svenskfaktning.se/event/16-witold-woydas-foil/
LOCATION:Warszawa
CATEGORIES:Tävling
END:VEVENT
BEGIN:VEVENT
DTSTART;TZID=UTC:20240928T000000
DTEND;TZID=UTC:20240929T235959
DTSTAMP:20260424T025941
CREATED:20240623T122512Z
LAST-MODIFIED:20241027T143136Z
UID:10002781-1727481600-1727654399@svenskfaktning.se
SUMMARY:Tbilisi Cadet Circuit
DESCRIPTION:Åldersklasser: U17Klasser: SF SMMer information: https://fencing.ophardt.online/sv/widget/event/30429
URL:https://svenskfaktning.se/event/cadet-circuit-17/
LOCATION:Tbilisi
CATEGORIES:Tävling
END:VEVENT
BEGIN:VEVENT
DTSTART;TZID=UTC:20240928T000000
DTEND;TZID=UTC:20240929T235959
DTSTAMP:20260424T025941
CREATED:20240617T110012Z
LAST-MODIFIED:20241027T143134Z
UID:10002748-1727481600-1727654399@svenskfaktning.se
SUMMARY:31 SISTA-SFZ International
DESCRIPTION:Åldersklasser: SeniorKlasser: FF FMMer information: https://fencing.ophardt.online/sv/widget/event/30358
URL:https://svenskfaktning.se/event/31-sista-sfz-international/
LOCATION:Amsterdam
CATEGORIES:Tävling
END:VEVENT
BEGIN:VEVENT
DTSTART;TZID=UTC:20240928T000000
DTEND;TZID=UTC:20240928T235959
DTSTAMP:20260424T025941
CREATED:20241003T131042Z
LAST-MODIFIED:20241027T143134Z
UID:10002906-1727481600-1727567999@svenskfaktning.se
SUMMARY:Masthugget Cup I
DESCRIPTION:Åldersklasser: U11 U13 U15Klasser: FOInbjudan: https://fencing.ophardt.online/sv/invitation/view/31127/pdfMer information: https://fencing.ophardt.online/sv/widget/event/31127
URL:https://svenskfaktning.se/event/masthugget-cup-i-6/
LOCATION:Gothenburg
END:VEVENT
BEGIN:VEVENT
DTSTART;TZID=UTC:20240928T000000
DTEND;TZID=UTC:20240928T235959
DTSTAMP:20260424T025941
CREATED:20240804T221008Z
LAST-MODIFIED:20241027T143134Z
UID:10002847-1727481600-1727567999@svenskfaktning.se
SUMMARY:2024 Sydsvenska Cupen - Musketörträffen
DESCRIPTION:Åldersklasser: Seniorer U13Klasser: EF EM EOInbjudan: https://fencing.ophardt.online/sv/invitation/view/30730/pdfMer information: https://fencing.ophardt.online/sv/widget/event/30730
URL:https://svenskfaktning.se/event/2024-sydsvenska-cupen-musketortraffen/
LOCATION:Karlskrona
CATEGORIES:Tävling
END:VEVENT
BEGIN:VEVENT
DTSTART;TZID=UTC:20240928T000000
DTEND;TZID=UTC:20240928T235959
DTSTAMP:20260424T025941
CREATED:20240515T031009Z
LAST-MODIFIED:20241027T143136Z
UID:10002690-1727481600-1727567999@svenskfaktning.se
SUMMARY:2024 S:t Erikscupen (1)
DESCRIPTION:Åldersklasser: Seniorer U11 U13 U15 U20Klasser: EF EM EO FOInbjudan: https://fencing.ophardt.online/sv/invitation/view/30180/pdfMer information: https://fencing.ophardt.online/sv/widget/event/30180
URL:https://svenskfaktning.se/event/2024-st-erikscupen-1/
LOCATION:Stockholm
CATEGORIES:Tävling
END:VEVENT
BEGIN:VEVENT
DTSTART;TZID=UTC:20240927T000000
DTEND;TZID=UTC:20240929T235959
DTSTAMP:20260424T025941
CREATED:20241003T131043Z
LAST-MODIFIED:20241026T143133Z
UID:10002908-1727395200-1727654399@svenskfaktning.se
SUMMARY:Värjläger H+D - KAD\, JUN och SEN
DESCRIPTION:Åldersklasser: SeniorerKlasser: EOInbjudan: https://fencing.ophardt.online/sv/invitation/view/30964/pdfMer information: https://fencing.ophardt.online/sv/widget/event/30964
URL:https://svenskfaktning.se/event/varjlager-hd-kad-jun-och-sen/
LOCATION:Stockholm
END:VEVENT
BEGIN:VEVENT
DTSTART;TZID=Europe/Stockholm:20240924T200000
DTEND;TZID=Europe/Stockholm:20240924T213000
DTSTAMP:20260424T025941
CREATED:20241011T105829Z
LAST-MODIFIED:20241011T110227Z
UID:10002911-1727208000-1727213400@svenskfaktning.se
SUMMARY:Grundläggande marknadsföring och kommunikation
DESCRIPTION:Hur bygger du en marknadsföringsstrategi? Hur använder du sociala medier för att kommunicera? KMK kommer att gå igenom grunderna du behöver för att hjälpa din förening bygga en strategi som passar era mål och ge er de rätta verktygen. Vad är syftet och målet med marknadsföringen? Vem är din målgrupp? När bör varje plattform användas? Dessa frågor och många mer kommer besvaras under det första tillfället. \n\n\n\nAnmälan: Ingen föranmälan krävs och mötet är på denna Teamslänk.
URL:https://svenskfaktning.se/event/grundlaggande-marknadsforing-och-kommunikation/
LOCATION:Teams
CATEGORIES:Verksamhet
END:VEVENT
BEGIN:VEVENT
DTSTART;TZID=UTC:20240922T000000
DTEND;TZID=UTC:20240922T235959
DTSTAMP:20260424T025941
CREATED:20240617T110011Z
LAST-MODIFIED:20241021T134735Z
UID:10002744-1726963200-1727049599@svenskfaktning.se
SUMMARY:68 Belgrade Trophy
DESCRIPTION:Åldersklasser: SeniorKlasser: EF EMMer information: https://fencing.ophardt.online/sv/widget/event/30354
URL:https://svenskfaktning.se/event/70-belgrade-trophy/
LOCATION:Belgrade
CATEGORIES:Tävling
END:VEVENT
END:VCALENDAR