BEGIN:VCALENDAR
VERSION:2.0
PRODID:-//Svensk Fäktning - ECPv6.15.18//NONSGML v1.0//EN
CALSCALE:GREGORIAN
METHOD:PUBLISH
X-WR-CALNAME:Svensk Fäktning
X-ORIGINAL-URL:https://svenskfaktning.se
X-WR-CALDESC:Händelser för Svensk Fäktning
REFRESH-INTERVAL;VALUE=DURATION:PT1H
X-Robots-Tag:noindex
X-PUBLISHED-TTL:PT1H
BEGIN:VTIMEZONE
TZID:UTC
BEGIN:STANDARD
TZOFFSETFROM:+0000
TZOFFSETTO:+0000
TZNAME:UTC
DTSTART:20240101T000000
END:STANDARD
END:VTIMEZONE
BEGIN:VTIMEZONE
TZID:Europe/Stockholm
BEGIN:DAYLIGHT
TZOFFSETFROM:+0100
TZOFFSETTO:+0200
TZNAME:CEST
DTSTART:20240331T010000
END:DAYLIGHT
BEGIN:STANDARD
TZOFFSETFROM:+0200
TZOFFSETTO:+0100
TZNAME:CET
DTSTART:20241027T010000
END:STANDARD
BEGIN:DAYLIGHT
TZOFFSETFROM:+0100
TZOFFSETTO:+0200
TZNAME:CEST
DTSTART:20250330T010000
END:DAYLIGHT
BEGIN:STANDARD
TZOFFSETFROM:+0200
TZOFFSETTO:+0100
TZNAME:CET
DTSTART:20251026T010000
END:STANDARD
BEGIN:DAYLIGHT
TZOFFSETFROM:+0100
TZOFFSETTO:+0200
TZNAME:CEST
DTSTART:20260329T010000
END:DAYLIGHT
BEGIN:STANDARD
TZOFFSETFROM:+0200
TZOFFSETTO:+0100
TZNAME:CET
DTSTART:20261025T010000
END:STANDARD
END:VTIMEZONE
BEGIN:VEVENT
DTSTART;VALUE=DATE:20250503
DTEND;VALUE=DATE:20250504
DTSTAMP:20260421T150601
CREATED:20240707T154031Z
LAST-MODIFIED:20250601T030135Z
UID:10002823-1746230400-1746316799@svenskfaktning.se
SUMMARY:2025 Sydsvenska Cupen - Slaget vid Kärnan
DESCRIPTION:Åldersklasser: Seniorer U11 U13 U15Klasser: EF EM EO FF FM FO SOInbjudan: https://fencing.ophardt.online/sv/invitation/view/30273/pdfMer information: https://fencing.ophardt.online/sv/widget/event/30273
URL:https://svenskfaktning.se/event/2025-sydsvenska-cupen-slaget-vid-karnan/
LOCATION:Helsingborg
CATEGORIES:Tävling
END:VEVENT
BEGIN:VEVENT
DTSTART;VALUE=DATE:20250502
DTEND;VALUE=DATE:20250505
DTSTAMP:20260421T150601
CREATED:20240706T152531Z
LAST-MODIFIED:20250531T030149Z
UID:10002822-1746144000-1746403199@svenskfaktning.se
SUMMARY:SK Telecom Seoul Grand Prix
DESCRIPTION:Åldersklasser: SeniorKlasser: SF SMMer information: https://fencing.ophardt.online/sv/widget/event/30396
URL:https://svenskfaktning.se/event/sk-telecom-seoul-grand-prix-4/
LOCATION:Seoul
CATEGORIES:Tävling
END:VEVENT
BEGIN:VEVENT
DTSTART;VALUE=DATE:20250501
DTEND;VALUE=DATE:20250505
DTSTAMP:20260421T150601
CREATED:20240705T151032Z
LAST-MODIFIED:20250530T030203Z
UID:10002821-1746057600-1746403199@svenskfaktning.se
SUMMARY:World Cup
DESCRIPTION:Åldersklasser: SeniorKlasser: FF FMMer information: https://fencing.ophardt.online/sv/widget/event/30406
URL:https://svenskfaktning.se/event/world-cup-102/
LOCATION:Vancouver
CATEGORIES:Tävling
END:VEVENT
BEGIN:VEVENT
DTSTART;VALUE=DATE:20250426
DTEND;VALUE=DATE:20250428
DTSTAMP:20260421T150601
CREATED:20241003T112617Z
LAST-MODIFIED:20250525T030145Z
UID:10002890-1745625600-1745798399@svenskfaktning.se
SUMMARY:8 Osijek Fencing Cup 2025
DESCRIPTION:Åldersklasser: U14Klasser: EF EMMer information: https://fencing.ophardt.online/sv/widget/event/31065
URL:https://svenskfaktning.se/event/8-osijek-fencing-cup/
LOCATION:Osijek
CATEGORIES:Tävling
END:VEVENT
BEGIN:VEVENT
DTSTART;VALUE=DATE:20250426
DTEND;VALUE=DATE:20250428
DTSTAMP:20260421T150601
CREATED:20240630T135534Z
LAST-MODIFIED:20250525T030145Z
UID:10002817-1745625600-1745798399@svenskfaktning.se
SUMMARY:2025 Malmo Open
DESCRIPTION:Åldersklasser: U13 U15 U17 U20Klasser: EF EM FF FMInbjudan: https://fencing.ophardt.online/sv/invitation/view/30276/pdfMer information: https://fencing.ophardt.online/sv/widget/event/30276
URL:https://svenskfaktning.se/event/2025-malmo-open/
LOCATION:Malmo
CATEGORIES:Tävling
END:VEVENT
BEGIN:VEVENT
DTSTART;TZID=Europe/Stockholm:20250424T203000
DTEND;TZID=Europe/Stockholm:20250424T220000
DTSTAMP:20260421T150601
CREATED:20250120T085349Z
LAST-MODIFIED:20250120T085349Z
UID:10002954-1745526600-1745532000@svenskfaktning.se
SUMMARY:Grundläggande domarutbildning 6 (teoriexaminering 2)
DESCRIPTION:https://svenskfaktning.se/2025/01/08/anmalan-till-grundlaggande-domarutbildning-oppen/
URL:https://svenskfaktning.se/event/grundlaggande-domarutbildning-6-teoriexaminering-2/
LOCATION:Teams
CATEGORIES:Verksamhet
END:VEVENT
BEGIN:VEVENT
DTSTART;VALUE=DATE:20250424
DTEND;VALUE=DATE:20250428
DTSTAMP:20260421T150601
CREATED:20241003T112617Z
LAST-MODIFIED:20250523T030155Z
UID:10002889-1745452800-1745798399@svenskfaktning.se
SUMMARY:18 European Championships 2025
DESCRIPTION:Åldersklasser: U23Klasser: EF EM FF FM SF SMMer information: https://fencing.ophardt.online/sv/widget/event/31006
URL:https://svenskfaktning.se/event/18-european-championships-2025/
LOCATION:Tallinn
CATEGORIES:Tävling
END:VEVENT
BEGIN:VEVENT
DTSTART;TZID=Europe/Stockholm:20250422T203000
DTEND;TZID=Europe/Stockholm:20250422T220000
DTSTAMP:20260421T150601
CREATED:20250120T085320Z
LAST-MODIFIED:20250120T085320Z
UID:10002953-1745353800-1745359200@svenskfaktning.se
SUMMARY:Grundläggande domarutbildning 6 (teoriexaminering 1)
DESCRIPTION:https://svenskfaktning.se/2025/01/08/anmalan-till-grundlaggande-domarutbildning-oppen/
URL:https://svenskfaktning.se/event/grundlaggande-domarutbildning-6-teoriexaminering-1/
LOCATION:Teams
CATEGORIES:Verksamhet
END:VEVENT
BEGIN:VEVENT
DTSTART;VALUE=DATE:20250413
DTEND;VALUE=DATE:20250414
DTSTAMP:20260421T150601
CREATED:20241003T112616Z
LAST-MODIFIED:20250512T023129Z
UID:10002888-1744502400-1744588799@svenskfaktning.se
SUMMARY:Open Viennese Championships
DESCRIPTION:Åldersklasser: SeniorKlasser: SF SMMer information: https://fencing.ophardt.online/sv/widget/event/31293
URL:https://svenskfaktning.se/event/open-viennese-championships-4/
LOCATION:Wien
CATEGORIES:Tävling
END:VEVENT
BEGIN:VEVENT
DTSTART;VALUE=DATE:20250413
DTEND;VALUE=DATE:20250414
DTSTAMP:20260421T150601
CREATED:20240702T142533Z
LAST-MODIFIED:20250512T023129Z
UID:10002818-1744502400-1744588799@svenskfaktning.se
SUMMARY:2025 Coupe d'Europe
DESCRIPTION:Åldersklasser: VETKlasser: SXInbjudan: https://fencing.ophardt.online/sv/invitation/view/30387/pdfMer information: https://fencing.ophardt.online/sv/widget/event/30387
URL:https://svenskfaktning.se/event/2025-coupe-deurope/
LOCATION:Liege
CATEGORIES:Tävling
END:VEVENT
BEGIN:VEVENT
DTSTART;VALUE=DATE:20250412
DTEND;VALUE=DATE:20250414
DTSTAMP:20260421T150601
CREATED:20241003T112616Z
LAST-MODIFIED:20250511T023132Z
UID:10002887-1744416000-1744588799@svenskfaktning.se
SUMMARY:2025 Vladimir Mažuranić Memorial
DESCRIPTION:Åldersklasser: SeniorKlasser: EF EM FF FMMer information: https://fencing.ophardt.online/sv/widget/event/31051
URL:https://svenskfaktning.se/event/2025-vladimir-mazuranic-memorial/
LOCATION:Zagreb
CATEGORIES:Tävling
END:VEVENT
BEGIN:VEVENT
DTSTART;VALUE=DATE:20250412
DTEND;VALUE=DATE:20250414
DTSTAMP:20260421T150601
CREATED:20241003T112614Z
LAST-MODIFIED:20250511T023132Z
UID:10002886-1744416000-1744588799@svenskfaktning.se
SUMMARY:3 Fencing Cup Quijote
DESCRIPTION:Åldersklasser: U14Klasser: FF FM SF SMMer information: https://fencing.ophardt.online/sv/widget/event/31064
URL:https://svenskfaktning.se/event/3-fencing-cup-quijote/
LOCATION:Ciudad Real
CATEGORIES:Tävling
END:VEVENT
BEGIN:VEVENT
DTSTART;VALUE=DATE:20250412
DTEND;VALUE=DATE:20250414
DTSTAMP:20260421T150601
CREATED:20240616T104016Z
LAST-MODIFIED:20250511T023131Z
UID:10002739-1744416000-1744588799@svenskfaktning.se
SUMMARY:2025 Härnö Cup
DESCRIPTION:Åldersklasser: Seniorer U13 U15 U20Klasser: EOInbjudan: https://fencing.ophardt.online/sv/invitation/view/30272/pdfMer information: https://fencing.ophardt.online/sv/widget/event/30272
URL:https://svenskfaktning.se/event/2025-harno-cup/
LOCATION:Härnösand
CATEGORIES:Tävling
END:VEVENT
BEGIN:VEVENT
DTSTART;VALUE=DATE:20250412
DTEND;VALUE=DATE:20250413
DTSTAMP:20260421T150601
CREATED:20240715T173033Z
LAST-MODIFIED:20250511T023132Z
UID:10002826-1744416000-1744502399@svenskfaktning.se
SUMMARY:2025 EVF Circuit
DESCRIPTION:Åldersklasser: O40 O50 O60 O70Klasser: SF SMInbjudan: https://fencing.ophardt.online/sv/invitation/view/30386/pdfMer information: https://fencing.ophardt.online/sv/widget/event/30386
URL:https://svenskfaktning.se/event/2025-evf-circuit/
LOCATION:Liege
CATEGORIES:Tävling
END:VEVENT
BEGIN:VEVENT
DTSTART;VALUE=DATE:20250412
DTEND;VALUE=DATE:20250413
DTSTAMP:20260421T150601
CREATED:20240616T104015Z
LAST-MODIFIED:20250511T023131Z
UID:10002738-1744416000-1744502399@svenskfaktning.se
SUMMARY:2025 S:t Erikscupen (5)
DESCRIPTION:Åldersklasser: U11 U13 U15 U20Klasser: EF EM EO FOInbjudan: https://fencing.ophardt.online/sv/invitation/view/30262/pdfMer information: https://fencing.ophardt.online/sv/widget/event/30262
URL:https://svenskfaktning.se/event/2025-st-erikscupen-5/
LOCATION:Stockholm
CATEGORIES:Tävling
END:VEVENT
BEGIN:VEVENT
DTSTART;VALUE=DATE:20250407
DTEND;VALUE=DATE:20250416
DTSTAMP:20260421T150601
CREATED:20240717T174037Z
LAST-MODIFIED:20250506T021628Z
UID:10002840-1743984000-1744761599@svenskfaktning.se
SUMMARY:2025 World Championships
DESCRIPTION:Åldersklasser: U17 U20Klasser: EF EM FF FM SF SMMer information: https://fencing.ophardt.online/sv/widget/event/30291
URL:https://svenskfaktning.se/event/2025-world-championships/
LOCATION:Wuxi
CATEGORIES:Tävling
END:VEVENT
BEGIN:VEVENT
DTSTART;VALUE=DATE:20250405
DTEND;VALUE=DATE:20250406
DTSTAMP:20260421T150601
CREATED:20250221T230140Z
LAST-MODIFIED:20250504T020130Z
UID:10002957-1743811200-1743897599@svenskfaktning.se
SUMMARY:Finncupen
DESCRIPTION:Åldersklasser: U11 U13 U15 U17Klasser: EO SOInbjudan: https://fencing.ophardt.online/sv/invitation/view/32052/pdfMer information: https://fencing.ophardt.online/sv/widget/event/32052
URL:https://svenskfaktning.se/event/finncupen/
LOCATION:Lund
END:VEVENT
BEGIN:VEVENT
DTSTART;TZID=Europe/Stockholm:20250404T180000
DTEND;TZID=Europe/Stockholm:20250406T153000
DTSTAMP:20260421T150601
CREATED:20250331T120603Z
LAST-MODIFIED:20250331T120714Z
UID:10003007-1743789600-1743953400@svenskfaktning.se
SUMMARY:Landslagssamling värja herrar
DESCRIPTION:Landslagssamling värja herrar 4-6/4 2025
URL:https://svenskfaktning.se/event/landslagssamling-varja-herrar-2/
LOCATION:Hjorthagshallen\, Gasverksvägen 12\, Stockholm\, Sverige
CATEGORIES:Verksamhet
END:VEVENT
BEGIN:VEVENT
DTSTART;TZID=Europe/Stockholm:20250401T203000
DTEND;TZID=Europe/Stockholm:20250401T220000
DTSTAMP:20260421T150601
CREATED:20250120T085231Z
LAST-MODIFIED:20250120T085231Z
UID:10002952-1743539400-1743544800@svenskfaktning.se
SUMMARY:Grundläggande domarutbildning 5 (enbart för distriktsdomare)
DESCRIPTION:https://svenskfaktning.se/2025/01/08/anmalan-till-grundlaggande-domarutbildning-oppen/
URL:https://svenskfaktning.se/event/grundlaggande-domarutbildning-5-enbart-for-distriktsdomare/
LOCATION:Teams
CATEGORIES:Verksamhet
END:VEVENT
BEGIN:VEVENT
DTSTART;VALUE=DATE:20250329
DTEND;VALUE=DATE:20250331
DTSTAMP:20260421T150601
CREATED:20240716T173034Z
LAST-MODIFIED:20250427T020131Z
UID:10002839-1743206400-1743379199@svenskfaktning.se
SUMMARY:EVF Circuit in Poland
DESCRIPTION:Åldersklasser: O40 O50 O60 O70Klasser: EF EM FF FM SF SMMer information: https://fencing.ophardt.online/sv/widget/event/30662
URL:https://svenskfaktning.se/event/evf-circuit-30/
LOCATION:Warsaw – Jablonna
CATEGORIES:Tävling
END:VEVENT
BEGIN:VEVENT
DTSTART;VALUE=DATE:20250329
DTEND;VALUE=DATE:20250330
DTSTAMP:20260421T150601
CREATED:20241003T112614Z
LAST-MODIFIED:20250427T020130Z
UID:10002885-1743206400-1743292799@svenskfaktning.se
SUMMARY:2025 Sydsvenska Cupen - Calmare Cup
DESCRIPTION:Åldersklasser: Seniorer U11 U13Klasser: EF EM EOInbjudan: https://fencing.ophardt.online/sv/invitation/view/30992/pdfMer information: https://fencing.ophardt.online/sv/widget/event/30992
URL:https://svenskfaktning.se/event/2025-sydsvenska-cupen-calmare-cup/
LOCATION:Kalmar
CATEGORIES:Tävling
END:VEVENT
BEGIN:VEVENT
DTSTART;VALUE=DATE:20250328
DTEND;VALUE=DATE:20250331
DTSTAMP:20260421T150601
CREATED:20240622T121436Z
LAST-MODIFIED:20250426T020142Z
UID:10002776-1743120000-1743379199@svenskfaktning.se
SUMMARY:World Cup
DESCRIPTION:Åldersklasser: SeniorKlasser: SFMer information: https://fencing.ophardt.online/sv/widget/event/30401
URL:https://svenskfaktning.se/event/world-cup-90/
LOCATION:Cairo
CATEGORIES:Tävling
END:VEVENT
BEGIN:VEVENT
DTSTART;VALUE=DATE:20250328
DTEND;VALUE=DATE:20250331
DTSTAMP:20260421T150601
CREATED:20240622T121435Z
LAST-MODIFIED:20250426T020141Z
UID:10002775-1743120000-1743379199@svenskfaktning.se
SUMMARY:Gerevich-Kovacs-Karpati
DESCRIPTION:Åldersklasser: SeniorKlasser: SMMer information: https://fencing.ophardt.online/sv/widget/event/30398
URL:https://svenskfaktning.se/event/gerevich-kovacs-karpati-4/
LOCATION:Budapest
CATEGORIES:Tävling
END:VEVENT
BEGIN:VEVENT
DTSTART;VALUE=DATE:20250327
DTEND;VALUE=DATE:20250331
DTSTAMP:20260421T150601
CREATED:20240617T110023Z
LAST-MODIFIED:20250425T020131Z
UID:10002762-1743033600-1743379199@svenskfaktning.se
SUMMARY:World Cup
DESCRIPTION:Åldersklasser: SeniorKlasser: EF EMMer information: https://fencing.ophardt.online/sv/widget/event/30374
URL:https://svenskfaktning.se/event/world-cup-86/
LOCATION:Marrakech
CATEGORIES:Tävling
END:VEVENT
BEGIN:VEVENT
DTSTART;VALUE=DATE:20250323
DTEND;VALUE=DATE:20250324
DTSTAMP:20260421T150601
CREATED:20241205T190234Z
LAST-MODIFIED:20250421T014630Z
UID:10002937-1742688000-1742774399@svenskfaktning.se
SUMMARY:2025 Swedish championships veterans
DESCRIPTION:Åldersklasser: VET ÅK40 ÅK60Klasser: EMInbjudan: https://fencing.ophardt.online/sv/invitation/view/31628/pdfMer information: https://fencing.ophardt.online/sv/widget/event/31628
URL:https://svenskfaktning.se/event/2025-swedish-championships-veterans/
LOCATION:Uppsala
END:VEVENT
BEGIN:VEVENT
DTSTART;VALUE=DATE:20250322
DTEND;VALUE=DATE:20250324
DTSTAMP:20260421T150601
CREATED:20241003T112613Z
LAST-MODIFIED:20250420T014642Z
UID:10002884-1742601600-1742774399@svenskfaktning.se
SUMMARY:Prague Challenge
DESCRIPTION:Åldersklasser: U23Klasser: FF FMMer information: https://fencing.ophardt.online/sv/widget/event/30789
URL:https://svenskfaktning.se/event/fencing-for-everyone-4-3/
LOCATION:Praha
CATEGORIES:Tävling
END:VEVENT
BEGIN:VEVENT
DTSTART;VALUE=DATE:20250322
DTEND;VALUE=DATE:20250324
DTSTAMP:20260421T150601
CREATED:20240810T234035Z
LAST-MODIFIED:20250420T014642Z
UID:10002859-1742601600-1742774399@svenskfaktning.se
SUMMARY:Lausanne International Fencing Challenge
DESCRIPTION:Åldersklasser: U23Klasser: EF EMMer information: https://fencing.ophardt.online/sv/widget/event/30788
URL:https://svenskfaktning.se/event/fencing-for-everyone-4-2/
LOCATION:Lausanne
CATEGORIES:Tävling
END:VEVENT
BEGIN:VEVENT
DTSTART;VALUE=DATE:20250322
DTEND;VALUE=DATE:20250324
DTSTAMP:20260421T150601
CREATED:20240601T072510Z
LAST-MODIFIED:20250420T014642Z
UID:10002717-1742601600-1742774399@svenskfaktning.se
SUMMARY:2025 Swedish Championships U20
DESCRIPTION:Åldersklasser: U20Klasser: EF EM FF FMInbjudan: https://fencing.ophardt.online/sv/invitation/view/30271/pdfMer information: https://fencing.ophardt.online/sv/widget/event/30271
URL:https://svenskfaktning.se/event/2025-swedish-championships-u20-and-veterans/
LOCATION:Uppsala
CATEGORIES:Tävling
END:VEVENT
BEGIN:VEVENT
DTSTART;VALUE=DATE:20250321
DTEND;VALUE=DATE:20250324
DTSTAMP:20260421T150601
CREATED:20240623T122532Z
LAST-MODIFIED:20250419T014635Z
UID:10002813-1742515200-1742774399@svenskfaktning.se
SUMMARY:Lima Grand Prix
DESCRIPTION:Åldersklasser: SeniorKlasser: FF FMMer information: https://fencing.ophardt.online/sv/widget/event/30410
URL:https://svenskfaktning.se/event/grand-prix-14/
LOCATION:Lima
CATEGORIES:Tävling
END:VEVENT
BEGIN:VEVENT
DTSTART;TZID=Europe/Stockholm:20250318T203000
DTEND;TZID=Europe/Stockholm:20250318T220000
DTSTAMP:20260421T150601
CREATED:20250120T085145Z
LAST-MODIFIED:20250120T085145Z
UID:10002951-1742329800-1742335200@svenskfaktning.se
SUMMARY:Grundläggande domarutbildning 4
DESCRIPTION:https://svenskfaktning.se/2025/01/08/anmalan-till-grundlaggande-domarutbildning-oppen/
URL:https://svenskfaktning.se/event/grundlaggande-domarutbildning-4/
LOCATION:Teams
CATEGORIES:Verksamhet
END:VEVENT
END:VCALENDAR