BEGIN:VCALENDAR
VERSION:2.0
PRODID:-//Svensk Fäktning - ECPv6.15.18//NONSGML v1.0//EN
CALSCALE:GREGORIAN
METHOD:PUBLISH
X-ORIGINAL-URL:https://svenskfaktning.se
X-WR-CALDESC:Händelser för Svensk Fäktning
REFRESH-INTERVAL;VALUE=DURATION:PT1H
X-Robots-Tag:noindex
X-PUBLISHED-TTL:PT1H
BEGIN:VTIMEZONE
TZID:UTC
BEGIN:STANDARD
TZOFFSETFROM:+0000
TZOFFSETTO:+0000
TZNAME:UTC
DTSTART:20250101T000000
END:STANDARD
END:VTIMEZONE
BEGIN:VEVENT
DTSTART;VALUE=DATE:20260502
DTEND;VALUE=DATE:20260504
DTSTAMP:20260423T103114
CREATED:20251203T115142Z
LAST-MODIFIED:20260422T151922Z
UID:10003177-1777680000-1777852799@svenskfaktning.se
SUMMARY:2026 Swedish Seniors Championships
DESCRIPTION:Åldersklasser: SeniorerKlasser: EF EM FF FM SF SMInbjudan: https://fencing.ophardt.online/sv/invitation/view/33142/pdfMer information: https://fencing.ophardt.online/sv/widget/event/33142
URL:https://svenskfaktning.se/event/2026-swedish-championships-seniors/
LOCATION:Kalmar
CATEGORIES:Tävling
END:VEVENT
BEGIN:VEVENT
DTSTART;VALUE=DATE:20260502
DTEND;VALUE=DATE:20260504
DTSTAMP:20260423T103114
CREATED:20251203T115142Z
LAST-MODIFIED:20260422T151922Z
UID:10003178-1777680000-1777852799@svenskfaktning.se
SUMMARY:2026 Swedish Veterans Championships
DESCRIPTION:Åldersklasser: O60-70 VET ÅK40 ÅK50Klasser: EF EM FF FM SF SMInbjudan: https://fencing.ophardt.online/sv/invitation/view/33146/pdfMer information: https://fencing.ophardt.online/sv/widget/event/33146
URL:https://svenskfaktning.se/event/2026-swedish-championships-veterans/
LOCATION:Kalmar
CATEGORIES:Tävling
END:VEVENT
END:VCALENDAR