BEGIN:VCALENDAR
VERSION:2.0
PRODID:-//Svensk Fäktning - ECPv6.15.18//NONSGML v1.0//EN
CALSCALE:GREGORIAN
METHOD:PUBLISH
X-WR-CALNAME:Svensk Fäktning
X-ORIGINAL-URL:https://svenskfaktning.se
X-WR-CALDESC:Händelser för Svensk Fäktning
REFRESH-INTERVAL;VALUE=DURATION:PT1H
X-Robots-Tag:noindex
X-PUBLISHED-TTL:PT1H
BEGIN:VTIMEZONE
TZID:UTC
BEGIN:STANDARD
TZOFFSETFROM:+0000
TZOFFSETTO:+0000
TZNAME:UTC
DTSTART:20200101T000000
END:STANDARD
END:VTIMEZONE
BEGIN:VEVENT
DTSTART;VALUE=DATE:20260411
DTEND;VALUE=DATE:20260413
DTSTAMP:20260419T140218
CREATED:20251112T103845Z
LAST-MODIFIED:20260410T151936Z
UID:10003164-1775865600-1776038399@svenskfaktning.se
SUMMARY:2026 Malmo Open
DESCRIPTION:Åldersklasser: U13 U15 U17 U20Klasser: EF EM FF FMInbjudan: https://fencing.ophardt.online/sv/invitation/view/33068/pdfMer information: https://fencing.ophardt.online/sv/widget/event/33068
URL:https://svenskfaktning.se/event/2026-malmo-open/
LOCATION:Malmo
CATEGORIES:Tävling
END:VEVENT
BEGIN:VEVENT
DTSTART;VALUE=DATE:20250607
DTEND;VALUE=DATE:20250609
DTSTAMP:20260419T140218
CREATED:20241003T112623Z
LAST-MODIFIED:20250616T041631Z
UID:10002897-1749254400-1749427199@svenskfaktning.se
SUMMARY:2025 Malmo International
DESCRIPTION:Åldersklasser: Seniorer ÅK40 ÅK50 ÅK60 ÅK70+Klasser: EF EMInbjudan: https://fencing.ophardt.online/sv/invitation/view/30275/pdfMer information: https://fencing.ophardt.online/sv/widget/event/30275
URL:https://svenskfaktning.se/event/2025-malmo-international/
LOCATION:Malmo
CATEGORIES:Tävling
END:VEVENT
BEGIN:VEVENT
DTSTART;VALUE=DATE:20250426
DTEND;VALUE=DATE:20250428
DTSTAMP:20260419T140218
CREATED:20240630T135534Z
LAST-MODIFIED:20250525T030145Z
UID:10002817-1745625600-1745798399@svenskfaktning.se
SUMMARY:2025 Malmo Open
DESCRIPTION:Åldersklasser: U13 U15 U17 U20Klasser: EF EM FF FMInbjudan: https://fencing.ophardt.online/sv/invitation/view/30276/pdfMer information: https://fencing.ophardt.online/sv/widget/event/30276
URL:https://svenskfaktning.se/event/2025-malmo-open/
LOCATION:Malmo
CATEGORIES:Tävling
END:VEVENT
BEGIN:VEVENT
DTSTART;TZID=UTC:20240525T000000
DTEND;TZID=UTC:20240526T235959
DTSTAMP:20260419T140218
CREATED:20230730T112544Z
LAST-MODIFIED:20240526T055505Z
UID:10002601-1716595200-1716767999@svenskfaktning.se
SUMMARY:2024 Malmo International - Nordic Championships
DESCRIPTION:Åldersklasser: Seniorer VET ÅK40 ÅK50 ÅK60 ÅK70+Klasser: EF EMInbjudan: https://fencing.ophardt.online/sv/invitation/view/27074/pdfMer information: https://fencing.ophardt.online/sv/widget/event/27074
URL:https://svenskfaktning.se/event/2024-malmo-international/
LOCATION:Malmo
CATEGORIES:Tävling
END:VEVENT
BEGIN:VEVENT
DTSTART;TZID=UTC:20240504T000000
DTEND;TZID=UTC:20240505T235959
DTSTAMP:20260419T140218
CREATED:20230702T045539Z
LAST-MODIFIED:20240505T235505Z
UID:10002570-1714780800-1714953599@svenskfaktning.se
SUMMARY:2024 Malmo Open
DESCRIPTION:Åldersklasser: U13 U15 U17 U20Klasser: EF EM FF FMInbjudan: https://fencing.ophardt.online/sv/invitation/view/27071/pdfMer information: https://fencing.ophardt.online/sv/widget/event/27071
URL:https://svenskfaktning.se/event/2024-malmo-open/
LOCATION:Malmo
CATEGORIES:Tävling
END:VEVENT
BEGIN:VEVENT
DTSTART;TZID=UTC:20230603T000000
DTEND;TZID=UTC:20230604T235959
DTSTAMP:20260419T140218
CREATED:20221118T140506Z
LAST-MODIFIED:20230604T211008Z
UID:10002402-1685750400-1685923199@svenskfaktning.se
SUMMARY:2023 Malmö International
DESCRIPTION:Åldersklasser: Seniorer ÅK40 ÅK50 ÅK60 ÅK70+Klasser: EF EM EOInbjudan: https://fencing.ophardt.online/sv/invitation/view/24991/pdfMer information: https://fencing.ophardt.online/sv/widget/event/24991
URL:https://svenskfaktning.se/event/2023-malmo-international/
LOCATION:Malmo
CATEGORIES:Tävling
END:VEVENT
BEGIN:VEVENT
DTSTART;TZID=UTC:20230429T000000
DTEND;TZID=UTC:20230430T235959
DTSTAMP:20260419T140218
CREATED:20221118T140023Z
LAST-MODIFIED:20230430T071007Z
UID:10002382-1682726400-1682899199@svenskfaktning.se
SUMMARY:2023 Malmo Open
DESCRIPTION:Åldersklasser: U13 U15 U17 U20Klasser: EF EM FF FMInbjudan: https://fencing.ophardt.online/sv/invitation/view/24987/pdfMer information: https://fencing.ophardt.online/sv/widget/event/24987
URL:https://svenskfaktning.se/event/2023-malmo-open/
LOCATION:Malmo
CATEGORIES:Tävling
END:VEVENT
BEGIN:VEVENT
DTSTART;TZID=UTC:20220604T000000
DTEND;TZID=UTC:20220605T235959
DTSTAMP:20260419T140218
CREATED:20220313T235758Z
LAST-MODIFIED:20220605T234008Z
UID:10001946-1654300800-1654473599@svenskfaktning.se
SUMMARY:2022 Malmö International
DESCRIPTION:Åldersklasser: Seniorer VET ÅK40 ÅK50 ÅK60\nKlasser: EF EM EO\nInbjudan: https://fencing.ophardt.online/sv/invitation/view/21841/pdf\nMer information: https://fencing.ophardt.online/sv/widget/event/21841
URL:https://svenskfaktning.se/event/2022-malmo-international/
LOCATION:Malmo
END:VEVENT
BEGIN:VEVENT
DTSTART;TZID=UTC:20220430T000000
DTEND;TZID=UTC:20220501T235959
DTSTAMP:20260419T140218
CREATED:20220207T221256Z
LAST-MODIFIED:20220502T001004Z
UID:10001924-1651276800-1651449599@svenskfaktning.se
SUMMARY:2022 Malmo Open
DESCRIPTION:Åldersklasser: U13 U15 U17 U20\nKlasser: EF EM FF FM\nInbjudan: https://fencing.ophardt.online/sv/invitation/view/21839/pdf\nMer information: https://fencing.ophardt.online/sv/widget/event/21839
URL:https://svenskfaktning.se/event/2022-malmo-open/
LOCATION:Malmo
END:VEVENT
BEGIN:VEVENT
DTSTART;TZID=UTC:20210904T000000
DTEND;TZID=UTC:20210905T235959
DTSTAMP:20260419T140218
CREATED:20201119T144008Z
LAST-MODIFIED:20210905T222215Z
UID:10001684-1630713600-1630886399@svenskfaktning.se
SUMMARY:2021 Malmö International - Nordic Championships
DESCRIPTION:Åldersklasser: Seniorer VET ÅK40 ÅK50 ÅK60 ÅK70+\nKlasser: EF EM EO\nInbjudan: https://fencing.ophardt.online/sv/invitation/view/19983/pdf\nMer information: https://fencing.ophardt.online/sv/widget/event/19983
URL:https://svenskfaktning.se/event/2021-malmo-international/
LOCATION:Malmo
ATTACH;FMTTYPE=image/jpeg:https://svenskfaktning.se/wp-content/uploads/2020/11/MINT_TavlLogo2021_400x250.jpg
END:VEVENT
BEGIN:VEVENT
DTSTART;TZID=UTC:20210424T000000
DTEND;TZID=UTC:20210425T235959
DTSTAMP:20260419T140218
CREATED:20201119T144008Z
LAST-MODIFIED:20210409T125837Z
UID:10001675-1619222400-1619395199@svenskfaktning.se
SUMMARY:2021 Malmo Open - INSTÄLLT
DESCRIPTION:Åldersklasser: U13 U15 U17 U20Klasser: EF EM FF FM
URL:https://svenskfaktning.se/event/2021-malmo-open/
LOCATION:Malmo
END:VEVENT
END:VCALENDAR