BEGIN:VCALENDAR
VERSION:2.0
PRODID:-//Svensk Fäktning - ECPv6.15.18//NONSGML v1.0//EN
CALSCALE:GREGORIAN
METHOD:PUBLISH
X-WR-CALNAME:Svensk Fäktning
X-ORIGINAL-URL:https://svenskfaktning.se
X-WR-CALDESC:Händelser för Svensk Fäktning
REFRESH-INTERVAL;VALUE=DURATION:PT1H
X-Robots-Tag:noindex
X-PUBLISHED-TTL:PT1H
BEGIN:VTIMEZONE
TZID:UTC
BEGIN:STANDARD
TZOFFSETFROM:+0000
TZOFFSETTO:+0000
TZNAME:UTC
DTSTART:20250101T000000
END:STANDARD
END:VTIMEZONE
BEGIN:VEVENT
DTSTART;VALUE=DATE:20260418
DTEND;VALUE=DATE:20260420
DTSTAMP:20260419T172423
CREATED:20251119T110523Z
LAST-MODIFIED:20260417T151908Z
UID:10003169-1776470400-1776643199@svenskfaktning.se
SUMMARY:2026 Challenge Eugène Fillol
DESCRIPTION:Åldersklasser: SeniorerKlasser: EF EMInbjudan: https://fencing.ophardt.online/sv/invitation/view/33074/pdfMer information: https://fencing.ophardt.online/sv/widget/event/33074
URL:https://svenskfaktning.se/event/2026-challenge-eugene-fillol/
LOCATION:Stockholm
CATEGORIES:Tävling
END:VEVENT
BEGIN:VEVENT
DTSTART;VALUE=DATE:20260509
DTEND;VALUE=DATE:20260511
DTSTAMP:20260419T172423
CREATED:20251210T120601Z
LAST-MODIFIED:20260417T151915Z
UID:10003187-1778284800-1778457599@svenskfaktning.se
SUMMARY:2026 Djurgården Epee
DESCRIPTION:Åldersklasser: Seniorer U13 U15 U17Klasser: EF EMInbjudan: https://fencing.ophardt.online/sv/invitation/view/33075/pdfMer information: https://fencing.ophardt.online/sv/widget/event/33075
URL:https://svenskfaktning.se/event/2026-djurgarden-epee/
LOCATION:Stockholm
CATEGORIES:Tävling
END:VEVENT
BEGIN:VEVENT
DTSTART;VALUE=DATE:20260530
DTEND;VALUE=DATE:20260531
DTSTAMP:20260419T172423
CREATED:20251231T125042Z
LAST-MODIFIED:20260417T151932Z
UID:10003202-1780099200-1780185599@svenskfaktning.se
SUMMARY:2026 S:t Erikscupen (6)
DESCRIPTION:Åldersklasser: Seniorer U11 U13 U15 U20Klasser: EF EM EO FOInbjudan: https://fencing.ophardt.online/sv/invitation/view/33052/pdfMer information: https://fencing.ophardt.online/sv/widget/event/33052
URL:https://svenskfaktning.se/event/2026-st-erikscupen-6/
LOCATION:Stockholm
CATEGORIES:Tävling
END:VEVENT
END:VCALENDAR