BEGIN:VCALENDAR
VERSION:2.0
PRODID:-//Svensk Fäktning - ECPv6.15.18//NONSGML v1.0//EN
CALSCALE:GREGORIAN
METHOD:PUBLISH
X-WR-CALNAME:Svensk Fäktning
X-ORIGINAL-URL:https://svenskfaktning.se
X-WR-CALDESC:Händelser för Svensk Fäktning
REFRESH-INTERVAL;VALUE=DURATION:PT1H
X-Robots-Tag:noindex
X-PUBLISHED-TTL:PT1H
BEGIN:VTIMEZONE
TZID:UTC
BEGIN:STANDARD
TZOFFSETFROM:+0000
TZOFFSETTO:+0000
TZNAME:UTC
DTSTART:20190101T000000
END:STANDARD
END:VTIMEZONE
BEGIN:VEVENT
DTSTART;TZID=UTC:20201212T000000
DTEND;TZID=UTC:20201213T235959
DTSTAMP:20260419T233332
CREATED:20201118T182007Z
LAST-MODIFIED:20210417T095842Z
UID:10001658-1607731200-1607903999@svenskfaktning.se
SUMMARY:2020 Svenska mästerskapen lag - INSTÄLLT
DESCRIPTION:Åldersklasser: Seniorer\nKlasser: EF EM FM SM\nInbjudan: https://fencing.ophardt.online/sv/invitation/view/19899/pdf\nMer information: https://fencing.ophardt.online/sv/widget/event/19899
URL:https://svenskfaktning.se/event/2020-svenska-masterskapen-lag-cancelled/
LOCATION:Stockholm
END:VEVENT
BEGIN:VEVENT
DTSTART;TZID=UTC:20201121T000000
DTEND;TZID=UTC:20201121T235900
DTSTAMP:20260419T233332
CREATED:20201118T182005Z
LAST-MODIFIED:20210417T101022Z
UID:10001652-1605916800-1606003140@svenskfaktning.se
SUMMARY:2020 S:t Erikscupen (3) - INSTÄLLT
DESCRIPTION:Åldersklasser: U11 U13 U15 U20\nKlasser: EF EM EO FO\nInbjudan: https://fencing.ophardt.online/sv/invitation/view/19703/pdf\nmore infos: https://fencing.ophardt.online/sv/widget/event/19703
URL:https://svenskfaktning.se/event/2020-st-erikscupen-3-cancelled/
LOCATION:Stockholm
END:VEVENT
END:VCALENDAR